BEGIN:VCALENDAR
VERSION:2.0
PRODID:-//La Boulangerie du Prado - ECPv6.15.20//NONSGML v1.0//EN
CALSCALE:GREGORIAN
METHOD:PUBLISH
X-ORIGINAL-URL:https://boulangerieduprado.com
X-WR-CALDESC:Évènements pour La Boulangerie du Prado
REFRESH-INTERVAL;VALUE=DURATION:PT1H
X-Robots-Tag:noindex
X-PUBLISHED-TTL:PT1H
BEGIN:VTIMEZONE
TZID:UTC
BEGIN:STANDARD
TZOFFSETFROM:+0000
TZOFFSETTO:+0000
TZNAME:UTC
DTSTART:20230101T000000
END:STANDARD
END:VTIMEZONE
BEGIN:VEVENT
DTSTART;TZID=UTC:20240613T000000
DTEND;TZID=UTC:20240711T235959
DTSTAMP:20260425T232927
CREATED:20240515T202144Z
LAST-MODIFIED:20240515T202251Z
UID:1277-1718236800-1720742399@boulangerieduprado.com
SUMMARY:Pepsis Heros
DESCRIPTION:Cabinet de curiosités arthropodes végétaux\n\n\n\n\n\n\n\n\n\n\n\n\n\n\n\n\n\nLes Arthropodes végétaux ? Mais qu’est ce donc ? Des insectes\, des coléoptères\, des papillons\, des araignées… dont l’apparence est unique.  \n\n\n\nJeune illustrateur lyonnais\, diplômé de l’école Émile Cohl\, je réinterprète les arthropodes\, habillés de textures et d’éléments de la nature\, tels  que feuillages\, écorces\, branches\, fleurs\, pierres\,… Un regard original sur la biodiversité\, croisant faune et flore ! \n\n\n\nVernissage le jeudi 13 juin à 19h. \n\n\n\n\nInstagram
URL:https://boulangerieduprado.com/evenement/pepsis-heros/
CATEGORIES:Expositions
ATTACH;FMTTYPE=image/jpeg:https://boulangerieduprado.com/wp-content/uploads/2024/05/visuel-vernissage-expo.jpg
END:VEVENT
END:VCALENDAR