BEGIN:VCALENDAR
VERSION:2.0
PRODID:-//La Boulangerie du Prado - ECPv6.15.20//NONSGML v1.0//EN
CALSCALE:GREGORIAN
METHOD:PUBLISH
X-WR-CALNAME:La Boulangerie du Prado
X-ORIGINAL-URL:https://boulangerieduprado.com
X-WR-CALDESC:Évènements pour La Boulangerie du Prado
REFRESH-INTERVAL;VALUE=DURATION:PT1H
X-Robots-Tag:noindex
X-PUBLISHED-TTL:PT1H
BEGIN:VTIMEZONE
TZID:UTC
BEGIN:STANDARD
TZOFFSETFROM:+0000
TZOFFSETTO:+0000
TZNAME:UTC
DTSTART:20230101T000000
END:STANDARD
END:VTIMEZONE
BEGIN:VEVENT
DTSTART;TZID=UTC:20241013T180000
DTEND;TZID=UTC:20241013T210000
DTSTAMP:20260425T181902
CREATED:20241008T203249Z
LAST-MODIFIED:20241008T203250Z
UID:1444-1728842400-1728853200@boulangerieduprado.com
SUMMARY:Assemblée générale extraordinaire
DESCRIPTION:Chers boulangeois\, chères boulangeoises\,\n\n\n\nEn raison des difficultés financières que traverse actuellement la Boulangerie du Prado\, son CA convoque un Assemblée Générale Extraordinaire le dimanche 13 octobre à 18h dans les locaux situés au 69 rue Sébastien Gryphe 69007 LYON. \n\n\n\nCette réunion sera l’occasion de clarifier la situation et de vous faire part des mesures entreprises actuellement par le CA depuis la précédente AG de septembre. \n\n\n\nOrdre du jour :\n\n\n\n– Présentation de la malversation constatée en septembre ayant amenés à la convocation de la présente Assemblée Générale Extraordinaire– Présentation et vote du rapport financier– Présentation des décisions prises par le CA suite à cette malversation– Démission et élection d’un nouveau CA– Temps de questions-réponses \n\n\n\nAu plaisir de vous y voir !
URL:https://boulangerieduprado.com/evenement/assemblee-generale-extraordinaire/
END:VEVENT
END:VCALENDAR