BEGIN:VCALENDAR
VERSION:2.0
PRODID:-//La Boulangerie du Prado - ECPv6.15.20//NONSGML v1.0//EN
CALSCALE:GREGORIAN
METHOD:PUBLISH
X-ORIGINAL-URL:https://boulangerieduprado.com
X-WR-CALDESC:Évènements pour La Boulangerie du Prado
REFRESH-INTERVAL;VALUE=DURATION:PT1H
X-Robots-Tag:noindex
X-PUBLISHED-TTL:PT1H
BEGIN:VTIMEZONE
TZID:UTC
BEGIN:STANDARD
TZOFFSETFROM:+0000
TZOFFSETTO:+0000
TZNAME:UTC
DTSTART:20230101T000000
END:STANDARD
END:VTIMEZONE
BEGIN:VEVENT
DTSTART;TZID=UTC:20241114T000000
DTEND;TZID=UTC:20241207T235959
DTSTAMP:20260425T164455
CREATED:20241016T204105Z
LAST-MODIFIED:20241016T204106Z
UID:1490-1731542400-1733615999@boulangerieduprado.com
SUMMARY:Visages de l'âmes
DESCRIPTION:Exposition de Julien Bulteau\n\n\n\n\n\n\n\n\n\n\n\n\n\n\n\n\n\n“Le succès n’est que l’expression d’une vaste hallucination collective. » C’est par ces quelques mots de Charles Aznavour que Julien a voulu introduire le geste de sa première exposition à la Boulangerie du Prado composée de portraits de personnalités du milieu artistique. C’est toute l’âme humaine qui se déploie avec authenticité dans ces visages dont chacun raconte une histoire\, un moment\, une émotion. \n\n\n\nDepuis près de 20 ans\, Julien utilise des crayons graphite sur des supports bristol pour y coucher son inspiration. Passionné de musique et de cinéma\, il reproduit fidèlement des artistes dont les expressions et la personnalité font écho à ses propres cheminements intérieurs. \n\n\n\nVernissage le 14 novembre. \n\n\n\n\nInstagram\n\n\n\nBlog
URL:https://boulangerieduprado.com/evenement/visages-de-lames/
CATEGORIES:Expositions
ATTACH;FMTTYPE=image/jpeg:https://boulangerieduprado.com/wp-content/uploads/2024/10/Visuel-expo_Visage-de-lame.jpg.jpg
END:VEVENT
BEGIN:VEVENT
DTSTART;TZID=UTC:20241124T180000
DTEND;TZID=UTC:20241124T210000
DTSTAMP:20260425T164455
CREATED:20241024T153802Z
LAST-MODIFIED:20241024T153803Z
UID:1512-1732471200-1732482000@boulangerieduprado.com
SUMMARY:Réunion mensuelle
DESCRIPTION:La réunion mensuelle de la Boulangerie du Prado est l’occasion de permettre au CA (conseil d’administration) de présenter leurs décisions\, de permettre aux commissions d’échanger\, de présenter de nouveaux projets\, de discuter\, de se retrouver… \n\n\n\nElle est ouverte à tous les membres de l’association\, en particulier à ses bénévoles (comment ? tu n’es pas encore bénévole ? toutes les infos sont par ici !)\, et aux artistes qui souhaitent proposer un projet.
URL:https://boulangerieduprado.com/evenement/reunion-mensuelle/
CATEGORIES:Réunions
END:VEVENT
END:VCALENDAR