BEGIN:VCALENDAR
VERSION:2.0
PRODID:-//La Boulangerie du Prado - ECPv6.15.20//NONSGML v1.0//EN
CALSCALE:GREGORIAN
METHOD:PUBLISH
X-WR-CALNAME:La Boulangerie du Prado
X-ORIGINAL-URL:https://boulangerieduprado.com
X-WR-CALDESC:Évènements pour La Boulangerie du Prado
REFRESH-INTERVAL;VALUE=DURATION:PT1H
X-Robots-Tag:noindex
X-PUBLISHED-TTL:PT1H
BEGIN:VTIMEZONE
TZID:UTC
BEGIN:STANDARD
TZOFFSETFROM:+0000
TZOFFSETTO:+0000
TZNAME:UTC
DTSTART:20230101T000000
END:STANDARD
END:VTIMEZONE
BEGIN:VEVENT
DTSTART;TZID=UTC:20241212T000000
DTEND;TZID=UTC:20250108T235959
DTSTAMP:20260425T132908
CREATED:20241205T111337Z
LAST-MODIFIED:20241205T111339Z
UID:1564-1733961600-1736380799@boulangerieduprado.com
SUMMARY:Los colores de Celia
DESCRIPTION:Exposition de Célia Charpentier\n\n\n\n\n\n\n\n\n\n\n\n\n\n\n\n\n\nBasée sur Lyon\, Célia dessine depuis son plus jeune âge. Elle maîtrise le graphite\, le pastel sec\, les crayons de couleur\, l’acrylique et l’aquarelle. \n\n\n\nElle a travaillé comme graphiste indépendant pendant 7 ans et depuis 4 ans\, enseigne les arts plastiques dans la région. Dans sa  famille\, les « CHARPENTIER » issue de la Martinique\, plusieurs générations de peintres se sont succédés dont Hector Charpentier\, Jules Charpentier … Ce qu’elle aime ce sont leurs couleurs vives et éclatantes ! \n\n\n\nCes dernières années\, elle s’est épanouie dans la réalisation de portraits en mix média\, mêlant couleurs et textures\, encres\, aquarelle\, acrylique et dorure. \n\n\n\nElle explore sa créativité en réinventant le mandala de façon créative en mix média grâce à des fils\, tissus\, encres\, peintures\, matières végétales et/ou recyclées. Une explosions de formes\, de matières et de couleurs pour raviver vos espaces ! \n\n\n\nCélia donne des cours de dessin\, peinture\, portrait\, infographie sur Lyon. \n\n\n\nElle réalise des portraits sur commande de vos bien-aimés. \n\n\n\nVernissage le 12 décembre. \n\n\n\n\nInstagram\n\n\n\nSite web
URL:https://boulangerieduprado.com/evenement/los-colores-de-celia/
CATEGORIES:Expositions
ATTACH;FMTTYPE=image/jpeg:https://boulangerieduprado.com/wp-content/uploads/2024/12/les-colores-de-celia-2.jpg
END:VEVENT
BEGIN:VEVENT
DTSTART;TZID=UTC:20250103T200000
DTEND;TZID=UTC:20250103T223000
DTSTAMP:20260425T132908
CREATED:20241205T120905Z
LAST-MODIFIED:20241210T201651Z
UID:1590-1735934400-1735943400@boulangerieduprado.com
SUMMARY:Nomades
DESCRIPTION:Musiques du monde\n\n\n\n\n\n\n\n\n\n\n\n\n\n\n\n\n\nLucy danse. Observe-la. Elle ne s’arrête plus. C’est une fête au chemin parcouru\, elle qui vient de si loin. Sa voix s’est élevée\, son chant s’est transformé\, sa musique a grandi\, au contact des autres. Elle a balayé les continents. Elle a franchi des océans. Elle a essaimé. Elle nous a fait NÔMADES. \n\n\n\nChristian Chatillon a puisé dans cette figure emblématique une grande force et une énergie vitale. Elle se déploie\, croit\, bifurque et sa musique devient voyage. Elle se meut\, passe d’un instrument à l’autre\, d’un style à l’autre\, avec aisance et toujours cette recherche du plaisir et de l’équilibre. \n\n\n\nMusiques du monde\, chant des mondes. L’ailleurs se love dans l’ici et maintenant. \n\n\n\nNÔMADES\, c’est : Christian Chatillon (guitare\, cajon)\, Florence Voir (saxophone\, violoncelle)\, Franck Laurentin (guitare\, chant\, percus)\, Franck Richard (guitare)\, Jyann Mastan (basse)\, Ryad Chouchane (congas)\, Laurent Brun (guitare\, trompette). \n\n\n\n\nFacebook
URL:https://boulangerieduprado.com/evenement/nomades/
CATEGORIES:Concert
ATTACH;FMTTYPE=image/png:https://boulangerieduprado.com/wp-content/uploads/2024/12/Nomades-a-la-boulangerie-du-Prado.png
END:VEVENT
END:VCALENDAR