BEGIN:VCALENDAR
VERSION:2.0
PRODID:-//La Boulangerie du Prado - ECPv6.15.20//NONSGML v1.0//EN
CALSCALE:GREGORIAN
METHOD:PUBLISH
X-WR-CALNAME:La Boulangerie du Prado
X-ORIGINAL-URL:https://boulangerieduprado.com
X-WR-CALDESC:Évènements pour La Boulangerie du Prado
REFRESH-INTERVAL;VALUE=DURATION:PT1H
X-Robots-Tag:noindex
X-PUBLISHED-TTL:PT1H
BEGIN:VTIMEZONE
TZID:UTC
BEGIN:STANDARD
TZOFFSETFROM:+0000
TZOFFSETTO:+0000
TZNAME:UTC
DTSTART:20240101T000000
END:STANDARD
END:VTIMEZONE
BEGIN:VEVENT
DTSTART;TZID=UTC:20250213T000000
DTEND;TZID=UTC:20250312T235959
DTSTAMP:20260423T110653
CREATED:20250201T174901Z
LAST-MODIFIED:20250207T074651Z
UID:1774-1739404800-1741823999@boulangerieduprado.com
SUMMARY:Vernissage : Algues en état d'ébriété
DESCRIPTION:Exposition Aude Descombes\n\n\n\n\n\n\n\n\n\n\n\n\n\n\n\n\n\nVernissage le jeudi 13 février. \n\n\n\nUne chimère\, une étoile numérique\,À la chevelure humaine\, aux dents de microbiote\, aux ventres de cigales… »À partir d’un texte retrouvé dans les limbes de mes écrits d’automne\, je compose par assemblages et rencontres improbables le portrait d’une créature chimérique.Des débris\, couleurs et coulures se rassemblent en diverses concrétions et parent les murs de la Boulangerie. \n\n\n\n\nInstagram\n\n\n\nSite internet\n\n\n\n\n\n\nAvec une formation aux Beaux-Arts puis en maquillage\, c’est sous le prisme de la peinture que j’aborde la création même si les supports et techniques peuvent varier.Je perçois les choses avant tout en terme de couleurs\, rythme et matière.J’aspire à me connecter au présent par une célébration du vivant et une poétique de l’éphémère\, une attention à ce qui est.« La juxtaposition de formes improbables et la diversité des matières rassemblées dessinent un territoire qui brouille la hiérarchie des échelles et les frontières les mieux établies\, sous des drapés et des poignées de confettis. (…) » Extrait du texte de Christian Sozzi à propos de mon exposition « Georges et Dragon » à la Galerie B+ en 2023.
URL:https://boulangerieduprado.com/evenement/aude-descombes/
CATEGORIES:Expositions
ATTACH;FMTTYPE=image/jpeg:https://boulangerieduprado.com/wp-content/uploads/2025/02/Aude.jpg
END:VEVENT
BEGIN:VEVENT
DTSTART;TZID=UTC:20250301T200000
DTEND;TZID=UTC:20250301T223000
DTSTAMP:20260423T110653
CREATED:20250215T181728Z
LAST-MODIFIED:20250215T182005Z
UID:1834-1740859200-1740868200@boulangerieduprado.com
SUMMARY:Sunshine in Ohio
DESCRIPTION:Blues\, Folk\, Swing\, Bluegrass\n\n\n\n\n\n\n\n\n\n\n\n\n\n\n\n\n\nSunshine in Ohio\, c’est un collectif de musiciens et musiciennes qui se consacrent corps et âme à réjouir les oreilles du public dans la finesse et dans la bonne humeur. \n\n\n\nIls interprètent et réinventent la « Mountain Music » des Appalaches\, là où le ciel donne à l’herbe des reflets bleus au coucher du soleil.Leur concert est aussi un spectacle où l’interaction avec le public est prépondérante et où chaque morceau est amené avec le sourire\, avec une petite histoire ou un « american special effect » pour faire écho à l’imaginaire collectif et à l’univers intérieur de chacun/e. \n\n\n\nIls sont aujourd’hui en train d’écrire leur 3e spectacle et s’apprêtent à sortir leur 3e album : après l’univers du saloon dans le spectacle précédent « The Saloon »\, celui du voyage en roulotte et du « Travelling Show » ! \n\n\n\n\nSite web\n\n\n\nFacebook\n\n\n\nInstagram\n\n\n\nSpotify\n\n\n\nBandcamp\n\n\n\n\n\n\n\n\n\n\n\n \n\n\n\n\n\n\n\n\nInfos pratiquesOuverture des portes à 20h\, spectacle à 20h30.L’adhésion à l’association est obligatoire pour assister au spectacle (valable pour la saison de septembre à juillet\, à prix libre dès 3€).L’entrée est à prix libre au chapeau pour les artistes !Attention : la Boulangerie du Prado n’accepte que les espèces.
URL:https://boulangerieduprado.com/evenement/sunshine-in-ohio/
CATEGORIES:Concert
ATTACH;FMTTYPE=image/png:https://boulangerieduprado.com/wp-content/uploads/2025/02/sunshine_in_ihio_focusgrenoble_michelneuwirth3_51322878795_o.png
END:VEVENT
END:VCALENDAR