BEGIN:VCALENDAR
VERSION:2.0
PRODID:-//La Boulangerie du Prado - ECPv6.15.20//NONSGML v1.0//EN
CALSCALE:GREGORIAN
METHOD:PUBLISH
X-ORIGINAL-URL:https://boulangerieduprado.com
X-WR-CALDESC:Évènements pour La Boulangerie du Prado
REFRESH-INTERVAL;VALUE=DURATION:PT1H
X-Robots-Tag:noindex
X-PUBLISHED-TTL:PT1H
BEGIN:VTIMEZONE
TZID:UTC
BEGIN:STANDARD
TZOFFSETFROM:+0000
TZOFFSETTO:+0000
TZNAME:UTC
DTSTART:20240101T000000
END:STANDARD
END:VTIMEZONE
BEGIN:VEVENT
DTSTART;TZID=UTC:20250410T000000
DTEND;TZID=UTC:20250507T235959
DTSTAMP:20260423T113719
CREATED:20250325T165855Z
LAST-MODIFIED:20250325T171356Z
UID:1931-1744243200-1746662399@boulangerieduprado.com
SUMMARY:Aux origines
DESCRIPTION:Exposition de Samuel Desbouys et Boris Raoult\n\n\n\n\n\n\n\n\n\n\n\n\n\n\n\n\n\nPyramide de Lyon et paysage : Itinéraire d’un peintre urbain\n\n\n\nRetrouvez les œuvres d’un artiste inspiré\, subjugué\, perturbé. Il arpente et peint un Lyon des années 2030-2060 marqué par la construction de la grande Pyramide de Lyon. Des documents d’époque reviennent sur les étapes les plus importantes de l’émergence de ce monument unique et perdurable. \n\n\n\nVernissage le jeudi 10 avril à 19h. \n\n\n\nFinissage\, pour revoir l’exposition et les artistes\, le samedi 3 mai à 14h30. \n\n\n\n\nFacebook\n\n\n\nInstagram\n\n\n\n\n\n\nInfos pratiquesL’adhésion à l’association est obligatoire pour participer (valable pour la saison de septembre à juillet\, à prix libre dès 3€).Attention : la Boulangerie du Prado n’accepte que les espèces.
URL:https://boulangerieduprado.com/evenement/aux-origines/
CATEGORIES:Expositions
ATTACH;FMTTYPE=image/jpeg:https://boulangerieduprado.com/wp-content/uploads/2025/03/aux-origines-scaled.jpg
END:VEVENT
BEGIN:VEVENT
DTSTART;TZID=UTC:20250418T200000
DTEND;TZID=UTC:20250418T223000
DTSTAMP:20260423T113719
CREATED:20250313T155642Z
LAST-MODIFIED:20250313T155644Z
UID:1912-1745006400-1745015400@boulangerieduprado.com
SUMMARY:Duo Flamenco Canela
DESCRIPTION:Flamenco\n\n\n\n\n\n\n\n\n\n\n\n\n\n\n\n\n\nMyri Tchalian et Pepe Haro dans un duo de flamenco à la fois traditionnel et original. Du chant\, de la danse\, de la guitare\, des percussions. Des alegrias aux sevillanas avec castagnettes en passant par des chansons flamenco-pop ! Une soirée sous le signe des états d’âme à l’andalouse…. \n\n\n\n\nSite web Myri Tchalian\n\n\n\nSite web Pepe Haro\n\n\n\nFacebook\n\n\n\nInstagram\n\n\n\n\n\n\n\n\n\n\n\n\n\n\n\n \n\n\n\n\n\n\n\n\nInfos pratiquesOuverture des portes à 20h\, spectacle à 20h30.L’adhésion à l’association est obligatoire pour assister au spectacle (valable pour la saison de septembre à juillet\, à prix libre dès 3€).L’entrée est à prix libre au chapeau pour les artistes !Attention : la Boulangerie du Prado n’accepte que les espèces.
URL:https://boulangerieduprado.com/evenement/duo-flamenco-canela/
CATEGORIES:Autre,Concert
ATTACH;FMTTYPE=image/jpeg:https://boulangerieduprado.com/wp-content/uploads/2025/03/duo-flamenco-canela.jpg
END:VEVENT
END:VCALENDAR