BEGIN:VCALENDAR
VERSION:2.0
PRODID:-//La Boulangerie du Prado - ECPv6.15.20//NONSGML v1.0//EN
CALSCALE:GREGORIAN
METHOD:PUBLISH
X-WR-CALNAME:La Boulangerie du Prado
X-ORIGINAL-URL:https://boulangerieduprado.com
X-WR-CALDESC:Évènements pour La Boulangerie du Prado
REFRESH-INTERVAL;VALUE=DURATION:PT1H
X-Robots-Tag:noindex
X-PUBLISHED-TTL:PT1H
BEGIN:VTIMEZONE
TZID:UTC
BEGIN:STANDARD
TZOFFSETFROM:+0000
TZOFFSETTO:+0000
TZNAME:UTC
DTSTART:20240101T000000
END:STANDARD
END:VTIMEZONE
BEGIN:VEVENT
DTSTART;TZID=UTC:20250620T200000
DTEND;TZID=UTC:20250620T223000
DTSTAMP:20260423T112418
CREATED:20250517T170041Z
LAST-MODIFIED:20250517T170300Z
UID:2010-1750449600-1750458600@boulangerieduprado.com
SUMMARY:Le marteau rouge
DESCRIPTION:Conte\n\n\n\n\n\n\n\n\n\n\n\n\n\n\n\nLe marteau rouge\, un conte de George Sand\n\n\n\nUn spectacle de LuluBerlue conteuse\, tout public à partir de 11 ans. \n\n\n\nPlus d’informations à venir ! \n\n\n\n\n\n\n\n\n\nInfos pratiquesOuverture des portes à 20h\, spectacle à 20h30.L’adhésion à l’association est obligatoire pour assister au spectacle (valable pour la saison de septembre à juillet\, à prix libre dès 3€).L’entrée est à prix libre au chapeau pour les artistes !Attention : la Boulangerie du Prado n’accepte que les espèces.
URL:https://boulangerieduprado.com/evenement/le-marteau-rouge/
CATEGORIES:Autre,Théâtre
END:VEVENT
END:VCALENDAR