BEGIN:VCALENDAR
VERSION:2.0
PRODID:-//La Boulangerie du Prado - ECPv6.15.20//NONSGML v1.0//EN
CALSCALE:GREGORIAN
METHOD:PUBLISH
X-ORIGINAL-URL:https://boulangerieduprado.com
X-WR-CALDESC:Évènements pour La Boulangerie du Prado
REFRESH-INTERVAL;VALUE=DURATION:PT1H
X-Robots-Tag:noindex
X-PUBLISHED-TTL:PT1H
BEGIN:VTIMEZONE
TZID:UTC
BEGIN:STANDARD
TZOFFSETFROM:+0000
TZOFFSETTO:+0000
TZNAME:UTC
DTSTART:20240101T000000
END:STANDARD
END:VTIMEZONE
BEGIN:VEVENT
DTSTART;TZID=UTC:20251011T200000
DTEND;TZID=UTC:20251011T220000
DTSTAMP:20260425T103509
CREATED:20250919T220939Z
LAST-MODIFIED:20250920T102316Z
UID:2143-1760212800-1760220000@boulangerieduprado.com
SUMMARY:Looking for Doe
DESCRIPTION:Rock alternatif\n\n\n\n\n\n\n\n\n\n\n\n\n\n\n\n\n\nLooking for John Doe\n\n\n\nNé des cendres de Never Back Down\, Looking for John Doe est composé de MarcFlutet\, Nicolas Sempéré\, Olivier Boquet et Nicolas Martinez.Ce quatuor à l’énergie débordante et communicative et au rock sans concession a étécréé pour la scène\, afin de laisser exploser toute sa puissance tout en jouant sans répitavec le public.Les compositions\, arrangées par le gang Rhône-alpin\, sont résolument rock\, teintées degrunge voire punk-rock.Les titres en anglais sont engagés\, traitant de sujets tels que les violences faîtes auxfemmes (Love Story)\, le harcèlement scolaire (The Monsters of the School) ou encorede la pandémie (Bad Movie).Looking for John Doe sortira son premier EP éponyme en 2025\, et compte bien endécoudre sur scène\, son domaine de prédilection\, en distillant ses riffs coups de poinget ses refrains entêtants. \n\n\n\n\nFacebook\n\n\n\nInstagram\n\n\n\nLinktree\n\n\n\n\n\n\n\n\n\n\n\n\n\n\n\n\n\n\nhttps://www.youtube.com/@LookingforJohnDoe \n\n\n\n\n\n\n\nInfos pratiquesOuverture des portes à 20h\, spectacle à 20h30.L’adhésion à l’association est obligatoire pour assister au spectacle (valable pour la saison de septembre à juillet\, à prix libre dès 3€).L’entrée est à prix libre au chapeau pour les artistes !Attention : la Boulangerie du Prado n’accepte que les espèces.
URL:https://boulangerieduprado.com/evenement/looking-for-doe/
CATEGORIES:Concert
ATTACH;FMTTYPE=image/jpeg:https://boulangerieduprado.com/wp-content/uploads/2025/09/logo-looking-for-john-doe.jpg
END:VEVENT
END:VCALENDAR