BEGIN:VCALENDAR
VERSION:2.0
PRODID:-//La Boulangerie du Prado - ECPv6.15.20//NONSGML v1.0//EN
CALSCALE:GREGORIAN
METHOD:PUBLISH
X-WR-CALNAME:La Boulangerie du Prado
X-ORIGINAL-URL:https://boulangerieduprado.com
X-WR-CALDESC:Évènements pour La Boulangerie du Prado
REFRESH-INTERVAL;VALUE=DURATION:PT1H
X-Robots-Tag:noindex
X-PUBLISHED-TTL:PT1H
BEGIN:VTIMEZONE
TZID:UTC
BEGIN:STANDARD
TZOFFSETFROM:+0000
TZOFFSETTO:+0000
TZNAME:UTC
DTSTART:20240101T000000
END:STANDARD
END:VTIMEZONE
BEGIN:VEVENT
DTSTART;TZID=UTC:20251017T200000
DTEND;TZID=UTC:20251017T223000
DTSTAMP:20260425T102815
CREATED:20250919T222503Z
LAST-MODIFIED:20250919T223058Z
UID:2147-1760731200-1760740200@boulangerieduprado.com
SUMMARY:Thierry / De l'Air
DESCRIPTION:Chanson française poétique\n\n\n\n\n\n\n\n\n\n\n\n\n\n\n\n\n\nThierry vient nous présenter le troisième album de son projet DE L’AIR intitulé « Il Pleut ! ». \n\n\n\nOn y retrouve de la profondeur et de la joie dans des textes poétiques portés par des harmonies très douces\, le tout dans une interprétation franche et sincère.  \n\n\n\nIl nous entraîne entre amour\, nature et amour de la nature\, nous faisant passer de la pluie à l’orage pour finalement dire adieu à la tristesse et saluer le soleil ! \n\n\n\n\nSpotify\n\n\n\n\n\n\n\n\n\n\n\n\n\n\n\n\n\n\n\n \n\n\n\n\n\n\n\n\nInfos pratiquesOuverture des portes à 20h\, spectacle à 20h30.L’adhésion à l’association est obligatoire pour assister au spectacle (valable pour la saison de septembre à juillet\, à prix libre dès 3€).L’entrée est à prix libre au chapeau pour les artistes !Attention : la Boulangerie du Prado n’accepte que les espèces.
URL:https://boulangerieduprado.com/evenement/thierry-de-lair/
CATEGORIES:Concert
ATTACH;FMTTYPE=image/jpeg:https://boulangerieduprado.com/wp-content/uploads/2025/09/DE-LAIR.jpg
END:VEVENT
END:VCALENDAR