BEGIN:VCALENDAR
VERSION:2.0
PRODID:-//La Boulangerie du Prado - ECPv6.15.20//NONSGML v1.0//EN
CALSCALE:GREGORIAN
METHOD:PUBLISH
X-ORIGINAL-URL:https://boulangerieduprado.com
X-WR-CALDESC:Évènements pour La Boulangerie du Prado
REFRESH-INTERVAL;VALUE=DURATION:PT1H
X-Robots-Tag:noindex
X-PUBLISHED-TTL:PT1H
BEGIN:VTIMEZONE
TZID:UTC
BEGIN:STANDARD
TZOFFSETFROM:+0000
TZOFFSETTO:+0000
TZNAME:UTC
DTSTART:20240101T000000
END:STANDARD
END:VTIMEZONE
BEGIN:VEVENT
DTSTART;TZID=UTC:20251018T200000
DTEND;TZID=UTC:20251018T223000
DTSTAMP:20260423T112153
CREATED:20250920T095851Z
LAST-MODIFIED:20250920T103442Z
UID:2178-1760817600-1760826600@boulangerieduprado.com
SUMMARY:LES FRERES BANDINI
DESCRIPTION:Bluegrass\, country\n\n\n\n\n\n\n\n\n\n\n\n\n\n\n\n\n\nDepuis 10 ans\, les Bandini fouillent dans l’insondable profondeur de la musique rurale américaine et chantent les morceaux d’interprètes méconnus du répertoire: Clarence Ashley\, Dock Boggs et Charlie Poole entre autres…Des chansons simples qui parlent d’amour\, de moonshine et de désespoir. Des morceaux de bluegrass qui tracent à 120 BPM\, des valses belles et tristes et des instrumentaux de copains ivres au bord du feu… Voilà de quoi sont faites les setlists des Bandini ! Des fois même\, une fois le concert fini\, on peut les entendre chanter des chansons cajun à plein poumon et des morceaux de calypsos accoudés au comptoir. \n\n\n\nIls seront ravis de vous présenter leur nouveau disque tout fraîchement sorti sur les plateformes et au format vinyle : Mockingbirds. \n\n\n\n\nFacebook\n\n\n\nSpotify\n\n\n\n\n\n\n\n\n\n\n\n\n\n\n\n\n\n\n\n \n\n\n\n\n\n \n\n\n\n\n\n\n\n\nInfos pratiquesOuverture des portes à 20h\, spectacle à 20h30.L’adhésion à l’association est obligatoire pour assister au spectacle (valable pour la saison de septembre à juillet\, à prix libre dès 3€).L’entrée est à prix libre au chapeau pour les artistes !Attention : la Boulangerie du Prado n’accepte que les espèces.
URL:https://boulangerieduprado.com/evenement/les-freres-bandini/
CATEGORIES:Concert
ATTACH;FMTTYPE=image/jpeg:https://boulangerieduprado.com/wp-content/uploads/2025/09/Champ_NB_Splatter-scaled.jpg
END:VEVENT
END:VCALENDAR