BEGIN:VCALENDAR
VERSION:2.0
PRODID:-//La Boulangerie du Prado - ECPv6.15.20//NONSGML v1.0//EN
CALSCALE:GREGORIAN
METHOD:PUBLISH
X-WR-CALNAME:La Boulangerie du Prado
X-ORIGINAL-URL:https://boulangerieduprado.com
X-WR-CALDESC:Évènements pour La Boulangerie du Prado
REFRESH-INTERVAL;VALUE=DURATION:PT1H
X-Robots-Tag:noindex
X-PUBLISHED-TTL:PT1H
BEGIN:VTIMEZONE
TZID:UTC
BEGIN:STANDARD
TZOFFSETFROM:+0000
TZOFFSETTO:+0000
TZNAME:UTC
DTSTART:20240101T000000
END:STANDARD
END:VTIMEZONE
BEGIN:VEVENT
DTSTART;TZID=UTC:20251024T200000
DTEND;TZID=UTC:20251024T223000
DTSTAMP:20260423T112525
CREATED:20250920T084344Z
LAST-MODIFIED:20250920T084346Z
UID:2161-1761336000-1761345000@boulangerieduprado.com
SUMMARY:Le Bruit des Racines
DESCRIPTION:Théâtre\, poésie\, création textile\n\n\n\n\n\n\n\n\n\n\n\n\n\n\n\n\n\nFESTONS\, Théâtre cousu de fils poétiques\n\n\n\n« Je ne suis pas fils du vent\, je suis fils de la terre\, fils des cris de la terre\, je suis un monstre d’humanité. »  \n\n\n\nNotre personnage est un culbuto costaud et fragile\, attachant et drôle. Un clown qui se débat pour tisser du lien avec lui-même\, avec les autres\, avec le dehors. Mais ce n’est pas toujours simple\, le dehors. Ça ne rassure pas toujours le dehors. Dehors\, il y a ces injonctions de la société\, la difficulté à communiquer\, la peur du vide. Alors\, le corps s’entrave\, les mots s’embrouillent… Comme une urgence fondamentale\, Culbuto doit expulser les mots de son corps et remplir ce même corps… Oui\, rien n’est simple\, mais ensemble\, on a la belle vie ! On est un peu cassés\, pas très bien roulés\, mais on a la belle vie ! \n\n\n\n\nSite\n\n\n\nFacebook\n\n\n\nInstagram\n\n\n\n\n\n\n\n\nhttps://bruitdesracines.wixsite.com/lebruitdesracines/copie-de-la-compagnie-1 \n\n\n\n\n\n\n\n\n\n\n\n\n\n\n\n\n\nInfos pratiquesOuverture des portes à 20h\, spectacle à 20h30.L’adhésion à l’association est obligatoire pour assister au spectacle (valable pour la saison de septembre à juillet\, à prix libre dès 3€).L’entrée est à prix libre au chapeau pour les artistes !Attention : la Boulangerie du Prado n’accepte que les espèces.
URL:https://boulangerieduprado.com/evenement/le-bruit-des-racines/
CATEGORIES:Théâtre
ATTACH;FMTTYPE=image/jpeg:https://boulangerieduprado.com/wp-content/uploads/2025/09/DSCF3791-scaled.jpg
END:VEVENT
END:VCALENDAR