BEGIN:VCALENDAR
VERSION:2.0
PRODID:-//La Boulangerie du Prado - ECPv6.15.20//NONSGML v1.0//EN
CALSCALE:GREGORIAN
METHOD:PUBLISH
X-ORIGINAL-URL:https://boulangerieduprado.com
X-WR-CALDESC:Évènements pour La Boulangerie du Prado
REFRESH-INTERVAL;VALUE=DURATION:PT1H
X-Robots-Tag:noindex
X-PUBLISHED-TTL:PT1H
BEGIN:VTIMEZONE
TZID:UTC
BEGIN:STANDARD
TZOFFSETFROM:+0000
TZOFFSETTO:+0000
TZNAME:UTC
DTSTART:20240101T000000
END:STANDARD
END:VTIMEZONE
BEGIN:VEVENT
DTSTART;TZID=UTC:20251101T200000
DTEND;TZID=UTC:20251101T223000
DTSTAMP:20260423T100403
CREATED:20251013T190553Z
LAST-MODIFIED:20251013T192318Z
UID:2212-1762027200-1762036200@boulangerieduprado.com
SUMMARY:Platypus Experience &Les Nectarines
DESCRIPTION:Pop rock\, jazz\n\n\n\n\n\n\n\n\n\n\n\n\n\n\n\n\n\nLes Nectarines\n\n\n\n\n\n\n\nLes Nectarines\, c’est du jazz survitaminé qui ravira petits et grands. 8 musiciens\, 130 millions d’albums vendus\, 42 ans de tournée\, 74 statisticiens… un show à ne pas manquer !(description non contractuelle) \n\n\n\nPlatypus Experience\n\n\n\nPlatypus Experience\, comme l’animal éponyme\, les platypus vont dans tous les sens. Groupe hybride aux influences diverses\, ces cinq drôle d’animaux se regroupent autour de l’ambition de faire passer un bon moment aux gens. Entre morceaux énergiques qui donnent envie de bouger et des titres plus doux\, on vous propose un répertoire pop-rock de reprise.Ils vous attendent pour barboter dans la bonne humeur. \n\n\n\n\nEvènement Facebook\n\n\n\nInstagram\n\n\n\n\n\n\n\n\n\n\n\n\n\n\n\n\n\n\nInfos pratiquesOuverture des portes à 20h\, spectacle à 20h30.L’adhésion à l’association est obligatoire pour assister au spectacle (valable pour la saison de septembre à juillet\, à prix libre dès 3€).L’entrée est à prix libre au chapeau pour les artistes !Attention : la Boulangerie du Prado n’accepte que les espèces.
URL:https://boulangerieduprado.com/evenement/platypus-experience-les-nectarines/
CATEGORIES:Concert
ATTACH;FMTTYPE=image/png:https://boulangerieduprado.com/wp-content/uploads/2025/10/platy-necta-bando-ss-date.png
END:VEVENT
END:VCALENDAR