BEGIN:VCALENDAR
VERSION:2.0
PRODID:-//La Boulangerie du Prado - ECPv6.15.20//NONSGML v1.0//EN
CALSCALE:GREGORIAN
METHOD:PUBLISH
X-ORIGINAL-URL:https://boulangerieduprado.com
X-WR-CALDESC:Évènements pour La Boulangerie du Prado
REFRESH-INTERVAL;VALUE=DURATION:PT1H
X-Robots-Tag:noindex
X-PUBLISHED-TTL:PT1H
BEGIN:VTIMEZONE
TZID:UTC
BEGIN:STANDARD
TZOFFSETFROM:+0000
TZOFFSETTO:+0000
TZNAME:UTC
DTSTART:20240101T000000
END:STANDARD
END:VTIMEZONE
BEGIN:VEVENT
DTSTART;TZID=UTC:20251205T200000
DTEND;TZID=UTC:20251205T223000
DTSTAMP:20260423T100343
CREATED:20251116T215636Z
LAST-MODIFIED:20251116T222939Z
UID:2309-1764964800-1764973800@boulangerieduprado.com
SUMMARY:Céline & Clara
DESCRIPTION:Chanson Trip Hop\n\n\n\n\n\n\n\n\n\n\n\n\n\n\n\n\n\n« Céline & Clara » est la rencontre de Ju Canto (Veritiz\, rap et slam)\, et de Nans Vincent(chanson pop-poétique). Une histoire portée par deux personnes très différentes mais rassemblées par une même passion : la chanson.Qui dit chanson dit musique bien sûr\, mais avant tout l’amour des mots\, l’envie de dire\, la naissance d’une amitié puis\, comme une évidence\, l’envie de dire à deux.Ce duo est un peu la preuve que quand les contraires s’attirent ils forment un toutéquilibré. Ju représente toute la palette entre les hommes et les femmes; Nans entre l’homme et l’enfant intérieur. Là où Nans\, fort de son expérience dans la musique\, apporte ses compétences techniques et son grain de folie dans la construction de leur univers acoustique\, Ju va faire appel à son intuition musicale pour la création de mélodies vocales.Ensemble\, ils créent des chansons sincères qui parlent de tolérance\, de nostalgie ou encore de la perte d’un ami. Chaque thème est traité avec soin\, pendant de longs échanges passionnés qui façonnent leurs textes empreints d’images et de sensibilité.Les rythmiques et mélodies trip hop nous enveloppent dans un paysage sonore chaleureux.Leurs textes empreints d’images et de sensibilité\, portés par le mariage de leurs 2 voix\, sont un appel au respect des émotions de chacun et à l’accueil des nôtres.Accompagnés par la société de production de spectacle Les2Z et par le label Bleu Pinces Productions\, le 1er EP de Céline & Clara est en préparation pour 2026. \n\n\n\n\nInstagram\n\n\n\nFacebook\n\n\n\n\n\n\n\n\n\n\n\n\n\n\n\n\n\n\n\n\n\n\nInfos pratiquesOuverture des portes à 20h\, spectacle à 20h30.L’adhésion à l’association est obligatoire pour assister au spectacle (valable pour la saison de septembre à juillet\, à prix libre dès 3€).L’entrée est à prix libre au chapeau pour les artistes !Attention : la Boulangerie du Prado n’accepte que les espèces.
URL:https://boulangerieduprado.com/evenement/celine-clara/
CATEGORIES:Concert
ATTACH;FMTTYPE=image/jpeg:https://boulangerieduprado.com/wp-content/uploads/2025/11/laUdaWg.jpeg
END:VEVENT
END:VCALENDAR