BEGIN:VCALENDAR
VERSION:2.0
PRODID:-//La Boulangerie du Prado - ECPv6.15.20//NONSGML v1.0//EN
CALSCALE:GREGORIAN
METHOD:PUBLISH
X-WR-CALNAME:La Boulangerie du Prado
X-ORIGINAL-URL:https://boulangerieduprado.com
X-WR-CALDESC:Évènements pour La Boulangerie du Prado
REFRESH-INTERVAL;VALUE=DURATION:PT1H
X-Robots-Tag:noindex
X-PUBLISHED-TTL:PT1H
BEGIN:VTIMEZONE
TZID:UTC
BEGIN:STANDARD
TZOFFSETFROM:+0000
TZOFFSETTO:+0000
TZNAME:UTC
DTSTART:20240101T000000
END:STANDARD
END:VTIMEZONE
BEGIN:VEVENT
DTSTART;TZID=UTC:20251206T200000
DTEND;TZID=UTC:20251206T223000
DTSTAMP:20260419T155421
CREATED:20251116T221940Z
LAST-MODIFIED:20251116T222224Z
UID:2313-1765051200-1765060200@boulangerieduprado.com
SUMMARY:Martine & the Billies et Liminal
DESCRIPTION:Défête des Lumières – Soirée Punk-Rock Éclairé\n\n\n\n\n\n\n\n\n\n\n\n\n\n\n\n\n\nMartine & the Billies \n\n\n\nMartine & the Billies est un groupe de punk\, de rock\, de pop\, de ce qu’on veut\, à tendance anarco-féministe. & de Lyon. \n\n\n\n\nBandcamp\n\n\n\nFacebook\n\n\n\n\n \n\n\n\nLiminal\n\n\n\nLes accords saturés\, rythmes énergiques et ambiances atmosphériques de LIMINAL\, servent des textes réflexifs\, décalés et engagés\, qui questionnent les limites et l’altérité (Rock/Punk-Hardcore/Métal). \n\n\n\n\nSoundcloud\n\n\n\nFacebook\n\n\n\nTeaser youtube\n\n\n\n\n \n\n\n\n\n\n\n\n\n\n\n\n\n\n \n\n\n\n\n\n\n\nInfos pratiquesOuverture des portes à 20h\, spectacle à 20h30.L’adhésion à l’association est obligatoire pour assister au spectacle (valable pour la saison de septembre à juillet\, à prix libre dès 3€).L’entrée est à prix libre au chapeau pour les artistes !Attention : la Boulangerie du Prado n’accepte que les espèces.
URL:https://boulangerieduprado.com/evenement/martine-the-billies-et-liminal/
CATEGORIES:Concert
ATTACH;FMTTYPE=image/jpeg:https://boulangerieduprado.com/wp-content/uploads/2025/11/576552433_122179520018878881_6053624350192234911_n.jpg
END:VEVENT
END:VCALENDAR