BEGIN:VCALENDAR
VERSION:2.0
PRODID:-//La Boulangerie du Prado - ECPv6.15.20//NONSGML v1.0//EN
CALSCALE:GREGORIAN
METHOD:PUBLISH
X-WR-CALNAME:La Boulangerie du Prado
X-ORIGINAL-URL:https://boulangerieduprado.com
X-WR-CALDESC:Évènements pour La Boulangerie du Prado
REFRESH-INTERVAL;VALUE=DURATION:PT1H
X-Robots-Tag:noindex
X-PUBLISHED-TTL:PT1H
BEGIN:VTIMEZONE
TZID:UTC
BEGIN:STANDARD
TZOFFSETFROM:+0000
TZOFFSETTO:+0000
TZNAME:UTC
DTSTART:20250101T000000
END:STANDARD
END:VTIMEZONE
BEGIN:VEVENT
DTSTART;TZID=UTC:20260514T190000
DTEND;TZID=UTC:20260514T223000
DTSTAMP:20260420T210926
CREATED:20260415T231640Z
LAST-MODIFIED:20260415T231647Z
UID:2758-1778785200-1778797800@boulangerieduprado.com
SUMMARY:Vernissage "La traversée"
DESCRIPTION:EXPOSITION PHOTOGRAPHIQUE ET PLURIDISCIPLINAIRE\n\n\n\n\n\n\n\n\n\n\n\n\n\n\n\n\n\nExpérience photographique et sonoreSEDR Antoine PELTIER : Chanteur / MusicienMirlande MELDEM : Photographe artiste visuelle/Plasticienne \n\n\n\nLa Traversée explore le deuil comme un passage plutôt que comme une fin. L’exposition interroge la mémoire\, l’absence et le temps : ce qui persiste\, ce qui nous traverse\, ce qui se transforme. La démarche ne cherche pas à dramatiser la mort\, mais à l’appréhender comme un espace intérieur où la douceur\, la tristesse et la beauté coexistent.L’expérience proposée est poétique et sensorielle : elle invite à ressentir avant de comprendre\, à laisser les souvenirs affleurer et à habiter un moment suspendu.Au cœur du projet se trouve l’idée du passage – entre présence et absence\, intime et collectif\, ombre et lumière. \n\n\n\nL’exposition s’adresse à tous : le deuil touche chacun\, quel que soit l’âge\, l’histoire ou le contexte. La Traversée parle d’une expérience humaine universelle\, mais à travers une forme artistique qui laisse de la place à la sensibilité de chacun.Artistiquement\, le projet s’adresse également aux personnes curieuses\, aux amateurs d’art et de photographie\, ainsi qu’aux publics attirés par la musique\, la poésie et les démarches sensibles.La rencontre entre images et chansons permet de croiser plusieurs types de spectateurs\, d’ouvrir des portes différentes selon les sensibilités\, et de rendre le propos accessible sans l’appauvrir. \n\n\n\nMirlande Meldem : Photographe artiste visuelle.Photographe\, Mirlande Meldem développe un travail centré sur la relation à l’autre. Avant de photographier\, elle crée un espace de parole et d’écoute : autour d’un café\, les personnes qui posent pour elle racontent ce qu’elles souhaitent – consciemment ou non. De cette rencontre naît la matière sensible de ses images.Son travail se déploie principalement en noir et blanc\, avec un grain marqué qui constitue sa signature.Cette esthétique intime et chaleureuse questionne la présence\, le regard et ce que la photographie peut révéler de l’intériorité humaine.À travers ses séries\, Mirlande Meldem explore la mémoire\, le temps\, l’identité et le rapport à l’autre.Sa démarche n’est jamais frontale : elle accompagne\, elle écoute\, elle recueille. Les images qui en résultent ouvrent un espace de perception et de curiosité\, où la tendresse et la fragilité ont leur place. \n\n\n\nSedr : Musicien\, auteur-interprète.Sedr\, c’est l’urgence de raconter la mort\, l’amour et ce qu’il en reste. Ses textes sont profonds\, traversés par le deuil et la mémoire\, mais portés par une voix à la fois douce et puissante. Sur scène\, il se présente en solo ou en duo\, avec une sincérité qui ne cherche ni l’effet ni la dramatisation.Avec humour\, lucidité et finesse\, Sedr puise dans ses maux pour inventer une manière de prendre soin de ses morts\, afin de mieux prendre soin des vivants. Sa musique n’est pas un exutoire mais un passage : un lieu où l’on dépose ce qui fait mal et où l’on recueille ce qui relie.Ses chansons ouvrent un espace de parole et d’écoute rare\, où le silence a autant d’importance que les mots. Elles proposent de traverser le deuil sans pathos\, dans une douceur qui apaise\, éclaire et transforme. \n\n\n\n \n\n\n\n\nInstagram Mirlande Meldem\n\n\n\nInstagram Sedr\n\n\n\n\n\n\n\n\n\n\n\n\n\n\n\n\n\n\nInfos pratiquesOuverture des portes à 20h\, spectacle à 20h30.L’adhésion à l’association est obligatoire pour assister au spectacle (valable pour la saison de septembre à juillet\, à prix libre dès 3€).L’entrée est à prix libre au chapeau pour les artistes !Attention : la Boulangerie du Prado n’accepte que les espèces.
URL:https://boulangerieduprado.com/evenement/vernissage-la-traversee/
CATEGORIES:Expositions,Vernissage
ATTACH;FMTTYPE=image/jpeg:https://boulangerieduprado.com/wp-content/uploads/2023/02/cropped-cropped-cropped-logo-laboulangerieduprado.jpg
END:VEVENT
END:VCALENDAR