BEGIN:VCALENDAR
VERSION:2.0
PRODID:-//La Boulangerie du Prado - ECPv6.15.20//NONSGML v1.0//EN
CALSCALE:GREGORIAN
METHOD:PUBLISH
X-ORIGINAL-URL:https://boulangerieduprado.com
X-WR-CALDESC:Évènements pour La Boulangerie du Prado
REFRESH-INTERVAL;VALUE=DURATION:PT1H
X-Robots-Tag:noindex
X-PUBLISHED-TTL:PT1H
BEGIN:VTIMEZONE
TZID:UTC
BEGIN:STANDARD
TZOFFSETFROM:+0000
TZOFFSETTO:+0000
TZNAME:UTC
DTSTART:20250101T000000
END:STANDARD
END:VTIMEZONE
BEGIN:VEVENT
DTSTART;TZID=UTC:20260515T200000
DTEND;TZID=UTC:20260515T223000
DTSTAMP:20260420T192541
CREATED:20260415T125410Z
LAST-MODIFIED:20260415T211809Z
UID:2729-1778875200-1778884200@boulangerieduprado.com
SUMMARY:Platane 4tet
DESCRIPTION:Jazz fusion aux inspirations hip-hop et musiques japonaises pop et traditionnelles\n\n\n\n\n\n\n\n\n\n\n\n\n\n\n\n\n\n\n\n\n\n\n\n\n\n\n\n\n\n\n\n\n\nPlatane 4tet🎶\n\n\n\nLe Platane Quartet est une jeune formation lyonnaise de jazz fusion aux inspirations hip-hop et musiques japonaises pop et traditionnelles. Le groupe est issu de l’École Nationale de Musique de Villeurbanne. Sa musique est une invitation à voyager dans le Japon d’aujourd’hui. Les mélodies\, autant chantées qu’instrumentales\, s’enchevêtrent avec des harmonies jazz complexes\, tout en faisant la part belle à l’improvisation. Le Platane trouve ses racines auprès d’artistes issus du jazz japonais comme Hiromi’s SonicWonder\, du jazz hip-hop comme RH Factor et Robert Glasper\, mais également des musiques des jeux Nintendo des musiques de film de Joe Hisaishi\, et des modes de jeu des instruments traditionnels japonais que sont le shamisen et le koto.Florentin Drugeon (contrebasse)Emilie Barber (chant)Brendan Rivière (batterie)Jérémy Cohen (piano\, chant et composition) \n\n\n\n\nInstagram \n\n\n\nLinktree\n\n\n\n\n\n\n\n\n\n\n\n\n\n\n\n \n\n\n\n\n\n \n\n\n\n\n\n\n\n\n\n\n\n\nInfos pratiquesOuverture des portes à 20h\, spectacle à 20h30.L’adhésion à l’association est obligatoire pour assister au spectacle (valable pour la saison de septembre à juillet\, à prix libre dès 3€).L’entrée est à prix libre au chapeau pour les artistes !Attention : la Boulangerie du Prado n’accepte que les espèces.
URL:https://boulangerieduprado.com/evenement/platane-4tet/
CATEGORIES:Concert,Programmation
ATTACH;FMTTYPE=image/jpeg:https://boulangerieduprado.com/wp-content/uploads/2026/04/IMG_1570_BANGER.jpg
END:VEVENT
END:VCALENDAR