BEGIN:VCALENDAR
VERSION:2.0
PRODID:-//La Boulangerie du Prado - ECPv6.15.20//NONSGML v1.0//EN
CALSCALE:GREGORIAN
METHOD:PUBLISH
X-ORIGINAL-URL:https://boulangerieduprado.com
X-WR-CALDESC:Évènements pour La Boulangerie du Prado
REFRESH-INTERVAL;VALUE=DURATION:PT1H
X-Robots-Tag:noindex
X-PUBLISHED-TTL:PT1H
BEGIN:VTIMEZONE
TZID:UTC
BEGIN:STANDARD
TZOFFSETFROM:+0000
TZOFFSETTO:+0000
TZNAME:UTC
DTSTART:20230101T000000
END:STANDARD
END:VTIMEZONE
BEGIN:VEVENT
DTSTART;TZID=UTC:20240704T200000
DTEND;TZID=UTC:20240704T223000
DTSTAMP:20260422T103011
CREATED:20240229T211136Z
LAST-MODIFIED:20240229T211515Z
UID:1032-1720123200-1720132200@boulangerieduprado.com
SUMMARY:Les Fugitifs
DESCRIPTION:Théâtre d’improvisation\n\n\n\n\n\n\n\n\n\n\n\n\n\n\n\n\n\nLes Fugitifs occupent le 1e jeudi de chaque mois les planches de la Boulangerie du Prado pour un spectacle improvisé et inédit. \n\n\n\nPas après pas\, instant après instant\, un lieu prend vie et les projecteurs s’allument sur un décor imaginaire. Un spectacle aussi varié qu’il existe de lieux dans le monde. Un bœuf d’improvisation laissant libre court aux folies de nos comédiens ! \n\n\n\n\nFacebook
URL:https://boulangerieduprado.com/evenement/les-fugitifs-11/
CATEGORIES:Théâtre
ATTACH;FMTTYPE=image/jpeg:https://boulangerieduprado.com/wp-content/uploads/2023/07/les-fugitifs.jpg
END:VEVENT
BEGIN:VEVENT
DTSTART;TZID=UTC:20240705T200000
DTEND;TZID=UTC:20240705T223000
DTSTAMP:20260422T103011
CREATED:20240328T170438Z
LAST-MODIFIED:20240515T200721Z
UID:1157-1720209600-1720218600@boulangerieduprado.com
SUMMARY:Blue Berry Tree
DESCRIPTION:Electro Funk Jazz\n\n\n\n\n\n\n\n\n\n\n\n\n			\n				\n			\n		\n\n\n\n\n\nVoyageant de Snarky Puppy à Vulfpeck en passant par Maceo Parker\, nous expérimentons une musique à mi chemin entre les teintes electro funk et le jazz. Notre formation est composée d’une batterie\, basse\, guitare\, clavier et saxophone\, et est accompagnée pour quelques morceaux d’un rappeur apportant à notre mélange musical un rap inspiré de MC Solaar et Oxmo Puccino\, aussi bien côté flow que côté plume. \n\n\n\n\nFacebook\n\n\n\nInstagram\n\n\n\nYouTube
URL:https://boulangerieduprado.com/evenement/blue-berry-tree/
CATEGORIES:Concert
ATTACH;FMTTYPE=image/jpeg:https://boulangerieduprado.com/wp-content/uploads/2023/09/blueberrytree.jpg.jpg
END:VEVENT
BEGIN:VEVENT
DTSTART;TZID=UTC:20240706T200000
DTEND;TZID=UTC:20240706T223000
DTSTAMP:20260422T103011
CREATED:20240328T170643Z
LAST-MODIFIED:20240515T195606Z
UID:1160-1720296000-1720305000@boulangerieduprado.com
SUMMARY:Rimé
DESCRIPTION:Hip-hop\, rap\, slam\n\n\n\n\n\n\n\n\n\n\n\n\n			\n				\n			\n		\n\n\n\n\n\nCicatrices créatrices.\n\n\n\nDeux mots forts et sans équivoque que l’on pourrait utiliser pour présenter l’univers artistique de Rimé\, rappeur/slameur à la plume mélancoliquement engagée. \n\n\n\nUne poésie sombre teintée d’engagements humains\, sociaux\, politiques\, de sujets sensibles\, de vécus personnels et de tourments entêtants. \n\n\n\nDes paroles et un discours\, portés et soutenus sur scène\, par Xavier Saïki\, talentueux guitariste aux 6 cordes rock\, blues\, jazz et brutes\, harmonisées dans groove envoûtant. \n\n\n\nUn duo original et atypique\, accordant médiator et stylo\, pour une fusion musicale créative et sincère. \n\n\n\n\nSite web\n\n\n\nFacebook\n\n\n\nYouTube
URL:https://boulangerieduprado.com/evenement/rime/
CATEGORIES:Concert
ATTACH;FMTTYPE=image/jpeg:https://boulangerieduprado.com/wp-content/uploads/2024/02/rime-scaled.jpg
END:VEVENT
BEGIN:VEVENT
DTSTART;TZID=UTC:20240711T200000
DTEND;TZID=UTC:20240711T223000
DTSTAMP:20260422T103011
CREATED:20240328T170818Z
LAST-MODIFIED:20240509T205633Z
UID:1162-1720728000-1720737000@boulangerieduprado.com
SUMMARY:Silka
DESCRIPTION:Trio folk trad celtique\n\n\n\n\n\n\n\n\n\n\n\n\n\n\n\n\n\nSilka est un trio folk d’inspiration celtique\, qui propose une musique où le traditionnel rencontre l’improvisation et où les instruments se mêlent aux harmonies vocales pour un voyage intime et poétique. \n\n\n\n\nFacebook\n\n\n\nInstagram
URL:https://boulangerieduprado.com/evenement/silka/
CATEGORIES:Concert
ATTACH;FMTTYPE=image/jpeg:https://boulangerieduprado.com/wp-content/uploads/2024/05/silka-scaled.jpg
END:VEVENT
BEGIN:VEVENT
DTSTART;TZID=UTC:20240712T200000
DTEND;TZID=UTC:20240712T223000
DTSTAMP:20260422T103011
CREATED:20240328T171044Z
LAST-MODIFIED:20240509T202337Z
UID:1164-1720814400-1720823400@boulangerieduprado.com
SUMMARY:Jikaëlle & Morgoran
DESCRIPTION:Chanson française\, folk américain\n\n\n\n\n\n\n\n\n\n\n\n\n\n\n\n\n\nJikaëlle et Morgoran\, ce sont nos deux projets solos que nous avons plaisir à réunir en duo à l’occasion de sessions acoustiques ou de concerts\, depuis plusieurs années maintenant. Notre point commun ? Une chanson française teintée de folk américain\, où les notes et les mots jouent avec la mélancolie et invitent à vivre. \n\n\n\nJikaëlle\n\n\n\nDes mélodies qui s’envolent\, des sonorités folks et des mots qui touchent… Jikaëlle navigue entre force de la rêverie et fragilité du réel. Sans faux-semblant\, elle écrit\, compose et chante\, comme en témoignent ses trois albums parus\, comme en témoignent également ses nouvelles chansons sorties en 2023. \n\n\n\n\nFacebook\n\n\n\n\n\n\n\n\nMorgoran\n\n\n\nPassionné de folk américain et amoureux de la langue française\, le musicien neuchâtelois Morgoran propose une réunion de ces deux mondes. Avec deux EP à son actif\, son envie est de faire de la chanson un espace coloré où le plaisir et la mélancolie se côtoient\, où les histoires racontées donnent à la réalité\, le temps d’un instant\, un éclairage différent. \n\n\n\n\nFacebook
URL:https://boulangerieduprado.com/evenement/jikaelle-morgoran/
CATEGORIES:Concert
ATTACH;FMTTYPE=image/jpeg:https://boulangerieduprado.com/wp-content/uploads/2024/04/jikaelle-morgoran.jpg
END:VEVENT
BEGIN:VEVENT
DTSTART;TZID=UTC:20240713T200000
DTEND;TZID=UTC:20240713T223000
DTSTAMP:20260422T103011
CREATED:20240328T171154Z
LAST-MODIFIED:20240328T171155Z
UID:1166-1720900800-1720909800@boulangerieduprado.com
SUMMARY:Sebtan 2.0
DESCRIPTION:Pop rock electro\n\n\n\n\n\n\n\n\n\n\n\n\n\n\n\nPlus d’informations à venir.
URL:https://boulangerieduprado.com/evenement/sebtan-2-0/
CATEGORIES:Concert
END:VEVENT
BEGIN:VEVENT
DTSTART;TZID=UTC:20240714T000000
DTEND;TZID=UTC:20240831T235959
DTSTAMP:20260422T103011
CREATED:20240328T171849Z
LAST-MODIFIED:20240827T102747Z
UID:1168-1720915200-1725148799@boulangerieduprado.com
SUMMARY:C'est les vacances !
DESCRIPTION:Fermeture estivale\n\n\n\n\n\n\n\n\n\n\n\n\n			\n				\n			\n		\n\n\n\n\n\nLes bénévoles sont en vacances\, alors la Boulangerie du Prado aussi : il n’y a pas de spectacles durant l’été. \n\n\n\nRéouverture la 2e semaine de septembre !
URL:https://boulangerieduprado.com/evenement/cest-les-vacances/
CATEGORIES:Autre
ATTACH;FMTTYPE=image/jpeg:https://boulangerieduprado.com/wp-content/uploads/2024/03/vacances-scaled.jpg
END:VEVENT
END:VCALENDAR