BEGIN:VCALENDAR
VERSION:2.0
PRODID:-//La Boulangerie du Prado - ECPv6.15.20//NONSGML v1.0//EN
CALSCALE:GREGORIAN
METHOD:PUBLISH
X-ORIGINAL-URL:https://boulangerieduprado.com
X-WR-CALDESC:Évènements pour La Boulangerie du Prado
REFRESH-INTERVAL;VALUE=DURATION:PT1H
X-Robots-Tag:noindex
X-PUBLISHED-TTL:PT1H
BEGIN:VTIMEZONE
TZID:UTC
BEGIN:STANDARD
TZOFFSETFROM:+0000
TZOFFSETTO:+0000
TZNAME:UTC
DTSTART:20230101T000000
END:STANDARD
END:VTIMEZONE
BEGIN:VEVENT
DTSTART;TZID=UTC:20241102T200000
DTEND;TZID=UTC:20241102T223000
DTSTAMP:20260420T162531
CREATED:20240827T115418Z
LAST-MODIFIED:20240827T115631Z
UID:1367-1730577600-1730586600@boulangerieduprado.com
SUMMARY:The Hyb-D Project
DESCRIPTION:Rock\, électro\n\n\n\n\n\n\n\n\n\n\n\n\n\n\n\nUn mélange des genres où la puissance et l’énergie brute d’un Apocalypse savent laisser place à la délicatesse et la douceur d’un Dancing with a star. \n\n\n\nPlus d’informations à venir. \n\n\n\n\nBandcamp
URL:https://boulangerieduprado.com/evenement/the-hyb-d-project/
CATEGORIES:Concert
END:VEVENT
BEGIN:VEVENT
DTSTART;TZID=UTC:20241107T200000
DTEND;TZID=UTC:20241107T223000
DTSTAMP:20260420T162531
CREATED:20240827T132259Z
LAST-MODIFIED:20240827T132331Z
UID:1391-1731009600-1731018600@boulangerieduprado.com
SUMMARY:LIMuL
DESCRIPTION:Match d’improvisation musicale\n\n\n\n\n\n\n\n\n\n\n\n\n\n\n\n\n\nMatch d’impro musicale sur le modèle des matchs de théâtre d’impro avec 2 équipes qui s’affrontent sur des catégories et des thèmes\, animé par 2 animateurs et un arbitre. \n\n\n\n\nFacebook
URL:https://boulangerieduprado.com/evenement/limul/
CATEGORIES:Autre,Concert
ATTACH;FMTTYPE=image/jpeg:https://boulangerieduprado.com/wp-content/uploads/2024/08/limul.jpg
END:VEVENT
BEGIN:VEVENT
DTSTART;TZID=UTC:20241108T200000
DTEND;TZID=UTC:20241108T223000
DTSTAMP:20260420T162531
CREATED:20240827T132927Z
LAST-MODIFIED:20240827T132928Z
UID:1394-1731096000-1731105000@boulangerieduprado.com
SUMMARY:Seleynora
DESCRIPTION:Chansons nomades\, world\n\n\n\n\n\n\n\n\n\n\n\n\n\n\n\n\n\nSeleynora est l’enfant de voyages et d’une longue expérience musicale baroque\, trad et classique\, qui s’épanouit à la croisée des mondes musicaux actuels.Sortant délibérément des sentiers battus\, c’est un univers riche\, reversant les frontières\, dont le trait d’union se fait par le son du violoncelle\, de la basse et du nyckelharpa\, une étrange vièle suédoise.Chants de sirènes et  narration douce-amère se répondent dans ce tour de chants à la lune mettant les femmes à l’honneur. \n\n\n\n\nSite web\n\n\n\nFacebook\n\n\n\nInstagram
URL:https://boulangerieduprado.com/evenement/seleynora/
CATEGORIES:Concert
ATTACH;FMTTYPE=image/jpeg:https://boulangerieduprado.com/wp-content/uploads/2024/08/seleynora1.jpg
END:VEVENT
BEGIN:VEVENT
DTSTART;TZID=UTC:20241109T200000
DTEND;TZID=UTC:20241109T223000
DTSTAMP:20260420T162531
CREATED:20240827T133708Z
LAST-MODIFIED:20240827T133710Z
UID:1397-1731182400-1731191400@boulangerieduprado.com
SUMMARY:MyriÅdes Tandem
DESCRIPTION:Dark pop\, alternative rock\n\n\n\n\n\n\n\n\n\n\n\n\n\n\n\n\n\nImprégné de différents univers musicaux aux caractères tranchés\, MyriÅdes Tandem a pour ambition de mêler l’immiscible : la mélancolie coulante des nappes de synthé aux guitares huilées du rock\, la poésie lunaire de la phonétique française au contrecoup solaire des drumkit électro actuels. \n\n\n\nPiochant ses lumières dans dix milles étoiles tantôt éteintes\, tantôt nouvelles\, le duo évolue dans un univers à la fois étrange et familier.  \n\n\n\nMais l’univers a-t-il un début\, une fin ? \n\n\n\n\nFacebook\n\n\n\nInstagram\n\n\n\nBandcamp\n\n\n\nSoundcloud
URL:https://boulangerieduprado.com/evenement/myriades-tandem/
CATEGORIES:Concert
ATTACH;FMTTYPE=image/jpeg:https://boulangerieduprado.com/wp-content/uploads/2024/08/myriades-tandem-1-scaled.jpg
END:VEVENT
BEGIN:VEVENT
DTSTART;TZID=UTC:20241114T190000
DTEND;TZID=UTC:20241114T210000
DTSTAMP:20260420T162531
CREATED:20241016T203858Z
LAST-MODIFIED:20241016T204122Z
UID:1487-1731610800-1731618000@boulangerieduprado.com
SUMMARY:Vernissage - Visages de l'âme
DESCRIPTION:Vernissage de l’expo du mois\n\n\n\n\n\n\n\n\n\n\n\n\n\n\n\n\n\n“Le succès n’est que l’expression d’une vaste hallucination collective. » C’est par ces quelques mots de Charles Aznavour que Julien a voulu introduire le geste de sa première exposition à la Boulangerie du Prado composée de portraits de personnalités du milieu artistique. C’est toute l’âme humaine qui se déploie avec authenticité dans ces visages dont chacun raconte une histoire\, un moment\, une émotion. \n\n\n\nDepuis près de 20 ans\, Julien utilise des crayons graphite sur des supports bristol pour y coucher son inspiration. Passionné de musique et de cinéma\, il reproduit fidèlement des artistes dont les expressions et la personnalité font écho à ses propres cheminements intérieurs. \n\n\n\nL’exposition est visible à la Boulangerie du Prado du 14 novembre au 7 décembre. \n\n\n\n\nInstagram\n\n\n\nBlog
URL:https://boulangerieduprado.com/evenement/vernissage-visages-de-lame/
CATEGORIES:Vernissage
ATTACH;FMTTYPE=image/jpeg:https://boulangerieduprado.com/wp-content/uploads/2024/10/Visuel-expo_Visage-de-lame.jpg.jpg
END:VEVENT
BEGIN:VEVENT
DTSTART;TZID=UTC:20241115T000000
DTEND;TZID=UTC:20241117T235959
DTSTAMP:20260420T162531
CREATED:20241024T150706Z
LAST-MODIFIED:20241106T150730Z
UID:1496-1731628800-1731887999@boulangerieduprado.com
SUMMARY:Week-end de soutien
DESCRIPTION:Santa Jessica + Soirée jazz + bal folk & crêpes\n\n\n\n\n\n\n\n\n\n\n\n\n\n\n\n\n\nLa Boulangerie du Prado traverse malheureusement quelques difficultés financières. Et on tente de résoudre ça avec ce qu’on a de mieux : de beaux spectacles et des coups à boire ! \n\n\n\n\n\n\n\nAu programme\n\n\n\nVendredi 15 novembre à 20h : soirée rock avec Santa Jessica \n\n\n\nSamedi 16 novembre à 20h : soirée Jazz avec Artis et les groupes John Doe & the Masbaha + les Nectarines \n\n\n\nDimanche 17 novembre à 15h : bal folk & crêpes \n\n\n\n\n\n\n\n\nTu veux nous aider en buvant des coups ? N’oublie pas de prendre avec toi des espèces\, nous ne prenons pas la CB !\n\n\n\nTu veux nous aider\, mais pas financièrement ? On a aussi besoin de bénévoles !\n\n\n\nTu veux nous aider\, mais tu n’es pas disponible ce week-end là ? Pas de souci\, on a plein d’autre soirées spectacles !\n\n\n\nTu veux juste profiter de l’événement ? Ta présence est bienvenue : tout est à prix libre\, comme d’habitude !
URL:https://boulangerieduprado.com/evenement/week-end-de-soutien/
CATEGORIES:Programmation
ATTACH;FMTTYPE=image/png:https://boulangerieduprado.com/wp-content/uploads/2024/10/weekend-de-soutien-1.png
END:VEVENT
BEGIN:VEVENT
DTSTART;TZID=UTC:20241115T200000
DTEND;TZID=UTC:20241115T223000
DTSTAMP:20260420T162531
CREATED:20241024T145358Z
LAST-MODIFIED:20241031T214502Z
UID:1497-1731700800-1731709800@boulangerieduprado.com
SUMMARY:Santa Jessica
DESCRIPTION:Garage pop\n\n\n\n\n\n\n\n\n\n\n\n\n\n\n\n\n\nFormation Garage Pop fondée à Lyon en 2023\, Santa Jessica crache un rock rugueux et frénétique porté par une énergie sauvage. S.J\, c’est aussi une ville californienne fictive où les hamsters philosophes côtoient des voitures assoiffées de sang et où les cowboys rencontrent des organes sécessionnistes ; le tout sur fond de lutte des classes. \n\n\n\nCe groupe est programmé dans le cadre d’un week-end de soutien à la Boulangerie du Prado : tout le programme ici !
URL:https://boulangerieduprado.com/evenement/jessica-mars/
CATEGORIES:Concert,Programmation
ATTACH;FMTTYPE=image/png:https://boulangerieduprado.com/wp-content/uploads/2024/10/SANTA-JESSICA-1.png
END:VEVENT
BEGIN:VEVENT
DTSTART;TZID=UTC:20241116T200000
DTEND;TZID=UTC:20241116T223000
DTSTAMP:20260420T162531
CREATED:20241024T151134Z
LAST-MODIFIED:20241024T151247Z
UID:1500-1731787200-1731796200@boulangerieduprado.com
SUMMARY:Artis : John Doe & the Masbaha + les Nectarines
DESCRIPTION:Soirée jazz\n\n\n\n\n\n\n\n\n\n\n\n\n\n\n\n\n\nUne soirée jazz proposée par l’association Artis avec deux groupes qui enflammeront la scène de la Boulang’ : les « John Doe & the Masbaha » et « les Nectarines ». \n\n\n\nCes groupes sont programmés dans le cadre d’un week-end de soutien à la Boulangerie du Prado : tout le programme ici !
URL:https://boulangerieduprado.com/evenement/artis-john-doe-the-masbaha-les-nectarines/
CATEGORIES:Concert
ATTACH;FMTTYPE=image/jpeg:https://boulangerieduprado.com/wp-content/uploads/2024/10/artis.jpeg
END:VEVENT
BEGIN:VEVENT
DTSTART;TZID=UTC:20241121T200000
DTEND;TZID=UTC:20241121T223000
DTSTAMP:20260420T162531
CREATED:20240827T140710Z
LAST-MODIFIED:20240827T140711Z
UID:1411-1732219200-1732228200@boulangerieduprado.com
SUMMARY:Poneys tambours
DESCRIPTION:Théâtre d’improvisation\n\n\n\n\n\n\n\n\n\n\n\n\n\n\n\n\n\nD’instinct grégaire\, les Poneys vivent en troupe. Une palette de jeux aussi colorée que les casaques. \n\n\n\nPlus d’informations à venir. \n\n\n\n\nFacebook
URL:https://boulangerieduprado.com/evenement/poneys-tambours-3/
CATEGORIES:Théâtre
ATTACH;FMTTYPE=image/jpeg:https://boulangerieduprado.com/wp-content/uploads/2023/08/poneys-tambours.jpg
END:VEVENT
BEGIN:VEVENT
DTSTART;TZID=UTC:20241122T200000
DTEND;TZID=UTC:20241122T223000
DTSTAMP:20260420T162531
CREATED:20240827T141114Z
LAST-MODIFIED:20240827T141115Z
UID:1413-1732305600-1732314600@boulangerieduprado.com
SUMMARY:Papagal
DESCRIPTION:Balkan fusion\n\n\n\n\n\n\n\n\n\n\n\n\n\n\n\nPapagal est un groupe lyonnais de compositions et d’arrangements de traditionnels des musiques d’Europe de l’Est. Des belles mélodies\, des rythmiques endiablées\, des thèmes virtuoses\, le quintet explore toutes les facettes de cette musique à travers ces 2 guitares\, clarinette\, basse et batterie. \n\n\n\n\n\n\n\n\n\n\nhttps://www.youtube.com/watch?v=Ji1rKo2-ac8
URL:https://boulangerieduprado.com/evenement/papagal/
CATEGORIES:Concert
END:VEVENT
BEGIN:VEVENT
DTSTART;TZID=UTC:20241123T200000
DTEND;TZID=UTC:20241123T223000
DTSTAMP:20260420T162531
CREATED:20240827T141952Z
LAST-MODIFIED:20240827T141953Z
UID:1418-1732392000-1732401000@boulangerieduprado.com
SUMMARY:Barium
DESCRIPTION:Jazz\, rock\n\n\n\n\n\n\n\n\n\n\n\n\n\n\n\n\n\nNé en 2021 à Paris\, Barium est un jeune trio jazz-rock dont la musique est une combinaison de chansons et d’improvisations collectives autour de textes originaux en français. S’y mêlent de multiples influences\, du rock progressif à la musique contemporaine\, le tout résolument tourné vers l’improvisation libre et doublé d’une prose aux élans d’abstrait et d’absurde.
URL:https://boulangerieduprado.com/evenement/barium/
CATEGORIES:Concert
ATTACH;FMTTYPE=image/jpeg:https://boulangerieduprado.com/wp-content/uploads/2024/08/barium1-scaled.jpg
END:VEVENT
BEGIN:VEVENT
DTSTART;TZID=UTC:20241128T200000
DTEND;TZID=UTC:20241128T223000
DTSTAMP:20260420T162531
CREATED:20240827T141237Z
LAST-MODIFIED:20240827T141239Z
UID:1415-1732824000-1732833000@boulangerieduprado.com
SUMMARY:Scène ouverte et bal folk
DESCRIPTION:Musiques et danses folk\n\n\n\n\n\n\n\n\n\n\n\n\n\n\n\n\n\nComme chaque dernier jeudi du mois (sauf exception)\, venez danser\, guincher\, vous divertir\, passer un bon moment\, au son des vielles et des accordéons. \n\n\n\nLes musiciens qui souhaitent participer à la scène ouverte peuvent s’inscrire la semaine précédent l’événement. \n\n\n\n\nInscription musiciens
URL:https://boulangerieduprado.com/evenement/scene-ouverte-et-bal-folk-8/
CATEGORIES:Autre,Concert
ATTACH;FMTTYPE=image/jpeg:https://boulangerieduprado.com/wp-content/uploads/2023/08/Blind_accordion_player.jpg
END:VEVENT
BEGIN:VEVENT
DTSTART;TZID=UTC:20241129T200000
DTEND;TZID=UTC:20241129T223000
DTSTAMP:20260420T162531
CREATED:20241016T195408Z
LAST-MODIFIED:20241016T195409Z
UID:1465-1732910400-1732919400@boulangerieduprado.com
SUMMARY:Boris Vian pataphysique quartet
DESCRIPTION:Reprises de chansons\n\n\n\n\n\n\n\n\n\n\n\n\n\n\n\n\n\nComposé d’Antoine Vignon à la trompette\, Céline Treuttel aux percussions d’objets sonores\, Florian Gourgeot au pianocktail et Julia Kallmann à la contrebasse\, le Boris Vian Pataphysique 4tet reprend des morceaux du répertoire de Boris Vian\, connus et moins connus\, dans des arrangements chaleureux\, originaux un peu zinzin et hurluberlus. Pataphysiques en somme. \n\n\n\n\nFacebook\n\n\n\nInstagram
URL:https://boulangerieduprado.com/evenement/boris-vian-pataphysique-quartet/
CATEGORIES:Concert
ATTACH;FMTTYPE=image/jpeg:https://boulangerieduprado.com/wp-content/uploads/2024/10/Concert-Boris-Vian-Pataphysique-4tet.jpg
END:VEVENT
BEGIN:VEVENT
DTSTART;TZID=UTC:20241130T200000
DTEND;TZID=UTC:20241130T223000
DTSTAMP:20260420T162531
CREATED:20241016T200046Z
LAST-MODIFIED:20241016T200047Z
UID:1469-1732996800-1733005800@boulangerieduprado.com
SUMMARY:Bïtzebüllet
DESCRIPTION:Metal\n\n\n\n\n\n\n\n\n\n\n\n\n\n\n\n\n\nGroupe de metal créé en 2022 en région lyonnaise\, nous avons désormais quelques enregistrements et concerts à notre actif. Nous sommes à l’affut de nouveaux lieux pour répandre notre vision du heavy metal ! \n\n\n\n\nFacebook\n\n\n\nBandcamp
URL:https://boulangerieduprado.com/evenement/bitzebullet/
CATEGORIES:Concert
ATTACH;FMTTYPE=image/jpeg:https://boulangerieduprado.com/wp-content/uploads/2024/10/bitzebullet-photo.jpeg
END:VEVENT
END:VCALENDAR