BEGIN:VCALENDAR
VERSION:2.0
PRODID:-//La Boulangerie du Prado - ECPv6.15.20//NONSGML v1.0//EN
CALSCALE:GREGORIAN
METHOD:PUBLISH
X-ORIGINAL-URL:https://boulangerieduprado.com
X-WR-CALDESC:Évènements pour La Boulangerie du Prado
REFRESH-INTERVAL;VALUE=DURATION:PT1H
X-Robots-Tag:noindex
X-PUBLISHED-TTL:PT1H
BEGIN:VTIMEZONE
TZID:UTC
BEGIN:STANDARD
TZOFFSETFROM:+0000
TZOFFSETTO:+0000
TZNAME:UTC
DTSTART:20230101T000000
END:STANDARD
END:VTIMEZONE
BEGIN:VEVENT
DTSTART;TZID=UTC:20241205T200000
DTEND;TZID=UTC:20241205T223000
DTSTAMP:20260420T150237
CREATED:20241016T200613Z
LAST-MODIFIED:20241016T200614Z
UID:1473-1733428800-1733437800@boulangerieduprado.com
SUMMARY:Le cercle des humoristes anonymes
DESCRIPTION:Stand up\n\n\n\n\n\n\n\n\n\n\n\n\n\n\n\nDes humoristes vous feront passer une soirée placée sous le signe du rire et de la bonne humeur\, en partageant leurs anecdotes les plus hilarantes!
URL:https://boulangerieduprado.com/evenement/le-cercle-des-humoristes-anonymes-2/
CATEGORIES:Autre,Théâtre
END:VEVENT
BEGIN:VEVENT
DTSTART;TZID=UTC:20241206T200000
DTEND;TZID=UTC:20241206T223000
DTSTAMP:20260420T150237
CREATED:20241016T201013Z
LAST-MODIFIED:20241205T180140Z
UID:1475-1733515200-1733524200@boulangerieduprado.com
SUMMARY:ANNULÉ - Forro de corda
DESCRIPTION:Forro (musique brésilienne à danser)\n\n\n\n\n\n\n\n\n\nCe spectacle est malheureusement annulé. \n\n\n\n\nVoir nos prochains spectacles\n\n\n\n\n\n\n\n\n\n\n\n\n\n\n\n\nForro de corda c’est la rencontre de 5 musiciens venus du nord-est du Brésil\, de France et d’Italie\, basé à Lyon. Un groupe qui propose les grands classiques du forro\, en passant par le xote\, baião\, arrasta pé ainsi que le coco\, la ciranda et autres rythme du nord-est du Brésil. Composé de Joel à la guitare\, Luciano au violoncelle\, Davi au violon / rabeca\, Léa à la flûte / pife / chant et Mauro à la zabumba.
URL:https://boulangerieduprado.com/evenement/forro-de-corda/
CATEGORIES:Concert
ATTACH;FMTTYPE=image/jpeg:https://boulangerieduprado.com/wp-content/uploads/2024/10/forro-de-corda.jpg
END:VEVENT
BEGIN:VEVENT
DTSTART;TZID=UTC:20241207T200000
DTEND;TZID=UTC:20241207T223000
DTSTAMP:20260420T150237
CREATED:20241205T104423Z
LAST-MODIFIED:20241205T104427Z
UID:1545-1733601600-1733610600@boulangerieduprado.com
SUMMARY:Madera que canta
DESCRIPTION:Musiques du monde et jazz\n\n\n\n\n\n\n\n\n\n\n\n\n\n\n\n\n\nMadera Que Canta est un duo contrebasse/guitare de musiques afro-péruviennes et jazz formé par deux amis.  \n\n\n\nOn souhaite faire voyager le public par des terres lointaines\, riches en rythmes\, mélodies\, et styles propres de la côte du Pérou ainsi que tracer le lien entre l’origine de ces musiques et le jazz à travers l’improvisation et le jeu complice.  \n\n\n\nAdriel Calvelo à la guitare et Léo Méssina à la contrebasse.  \n\n\n\n\nInstagram
URL:https://boulangerieduprado.com/evenement/madera-que-canta-2/
CATEGORIES:Concert
ATTACH;FMTTYPE=image/jpeg:https://boulangerieduprado.com/wp-content/uploads/2024/04/madera-que-canta-scaled.jpg
END:VEVENT
BEGIN:VEVENT
DTSTART;TZID=UTC:20241208T150000
DTEND;TZID=UTC:20241208T220000
DTSTAMP:20260420T150237
CREATED:20241205T105756Z
LAST-MODIFIED:20241205T105911Z
UID:1550-1733670000-1733695200@boulangerieduprado.com
SUMMARY:Soirée pour les (futurs) bénévoles
DESCRIPTION:Savais-tu que l’association la Boulangerie du Prado est entièrement gérée bénévolement ? C’est grâce aux bénévoles que l’asso tourne et que nous pouvons assurer des spectacles à prix libres tous les week-ends ! Alors\, envie de mettre la main à la pâte ? \n\n\n\n\nRejoins nous !\n\n\n\n\n\n\n\n\nTou·tes les bénévoles ainsi que les personnes qui souhaitent s’investir à la Boulangerie du Prado sont invité·es à la soirée bénévoles ! \n\n\n\nAu programme\n\n\n\nDès 15h et jusqu’au soir : \n\n\n\n\nKaraoké\n\n\n\nQuiz\n\n\n\nCrêpes autogérées (on fournit la pâte\, vous fournissez les garnitures)\n\n\n\nChorégraphies\n\n\n\nDéguisements : tu peux venir déguisé·e !\n\n\n\nPhotos mémorables\n\n\n\nFAIRE LA FÊTE !
URL:https://boulangerieduprado.com/evenement/soiree-pour-les-futurs-benevoles/
CATEGORIES:Autre
ATTACH;FMTTYPE=image/png:https://boulangerieduprado.com/wp-content/uploads/2024/12/affiche-soiree-benevole-8-12-2024.png
END:VEVENT
BEGIN:VEVENT
DTSTART;TZID=UTC:20241212T190000
DTEND;TZID=UTC:20241212T210000
DTSTAMP:20260420T150237
CREATED:20241205T110938Z
LAST-MODIFIED:20241205T111405Z
UID:1559-1734030000-1734037200@boulangerieduprado.com
SUMMARY:Vernissage - Los colores de Celia
DESCRIPTION:Vernissage de l’expo du mois\n\n\n\n\n\n\n\n\n\n\n\n\n\n\n\n\n\nBasée sur Lyon\, Célia dessine depuis son plus jeune âge. Elle maîtrise le graphite\, le pastel sec\, les crayons de couleur\, l’acrylique et l’aquarelle. \n\n\n\nElle a travaillé comme graphiste indépendant pendant 7 ans et depuis 4 ans\, enseigne les arts plastiques dans la région. Dans sa  famille\, les « CHARPENTIER » issue de la Martinique\, plusieurs générations de peintres se sont succédés dont Hector Charpentier\, Jules Charpentier … Ce qu’elle aime ce sont leurs couleurs vives et éclatantes ! \n\n\n\nCes dernières années\, elle s’est épanouie dans la réalisation de portraits en mix média\, mêlant couleurs et textures\, encres\, aquarelle\, acrylique et dorure. \n\n\n\nElle explore sa créativité en réinventant le mandala de façon créative en mix média grâce à des fils\, tissus\, encres\, peintures\, matières végétales et/ou recyclées. Une explosions de formes\, de matières et de couleurs pour raviver vos espaces ! \n\n\n\nCélia donne des cours de dessin\, peinture\, portrait\, infographie sur Lyon. \n\n\n\nElle réalise des portraits sur commande de vos bien-aimés. \n\n\n\nL’exposition est visible à la Boulangerie du Prado du 12 décembre au 8 janvier. \n\n\n\n\nInstagram\n\n\n\nSite web
URL:https://boulangerieduprado.com/evenement/vernissage-los-colores-de-celia/
CATEGORIES:Vernissage
ATTACH;FMTTYPE=image/jpeg:https://boulangerieduprado.com/wp-content/uploads/2024/12/les-colores-de-celia-2.jpg
END:VEVENT
BEGIN:VEVENT
DTSTART;TZID=UTC:20241213T200000
DTEND;TZID=UTC:20241213T223000
DTSTAMP:20260420T150237
CREATED:20241016T201613Z
LAST-MODIFIED:20241016T201634Z
UID:1477-1734120000-1734129000@boulangerieduprado.com
SUMMARY:Les Canuts'bal
DESCRIPTION:Bal folk\n\n\n\n\n\n\n\n\n\n\n\n\n\n\n\n\n\nLes Canuts’bal sont un collectif de musiciens amateurs et où professionnels\, basé sur la Croix Rousse qui souhaite partager leur passion pour les musiques traditionnelles d’ici ou d’ailleurs\, dans une ambiance festive et conviviale. Les Canuts’bal se retrouvent chaque semaine à la salle de la ficelle\, pour leur répétitions\, et animent régulièrement des fêtes de quartier ou des bals folks. \n\n\n\n\nFacebook
URL:https://boulangerieduprado.com/evenement/les-canutsbal/
CATEGORIES:Autre,Concert
ATTACH;FMTTYPE=image/jpeg:https://boulangerieduprado.com/wp-content/uploads/2024/10/canutsbal2.jpg
END:VEVENT
BEGIN:VEVENT
DTSTART;TZID=UTC:20241214T200000
DTEND;TZID=UTC:20241214T223000
DTSTAMP:20260420T150237
CREATED:20241016T202026Z
LAST-MODIFIED:20241205T104833Z
UID:1483-1734206400-1734215400@boulangerieduprado.com
SUMMARY:ANNULÉ - FD Music
DESCRIPTION:Reprises de chansons\n\n\n\n\n\n\n\n\n\nCette représentation est malheureusement annulée. \n\n\n\n\nVoir nos autres spectacles\n\n\n\n\n\n\n\n\n\n\n\n\n\n\nReprises de chansons françaises et étrangères. \n\n\n\n\nInstagram
URL:https://boulangerieduprado.com/evenement/fd-music/
CATEGORIES:Concert
END:VEVENT
BEGIN:VEVENT
DTSTART;TZID=UTC:20241219T200000
DTEND;TZID=UTC:20241219T223000
DTSTAMP:20260420T150237
CREATED:20241016T203108Z
LAST-MODIFIED:20241016T203110Z
UID:1485-1734638400-1734647400@boulangerieduprado.com
SUMMARY:Les Fugitifs
DESCRIPTION:Théâtre d’improvisation\n\n\n\n\n\n\n\n\n\n\n\n\n\n\n\n\n\nLa compagnie des Fugitifs revient à la Boulangerie du Prado jouer pour vous deux histoires longues improvisées. \n\n\n\nSeront-elles acidulées \, riantes\, intimistes\, absurdes\, corrosives\, tendres\, dramatiques ? Rien n’est sûr\, mais on n’attend plus que vous. \n\n\n\n\nFacebook
URL:https://boulangerieduprado.com/evenement/les-fugitifs-13/
CATEGORIES:Théâtre
ATTACH;FMTTYPE=image/jpeg:https://boulangerieduprado.com/wp-content/uploads/2023/07/les-fugitifs.jpg
END:VEVENT
BEGIN:VEVENT
DTSTART;TZID=UTC:20241220T200000
DTEND;TZID=UTC:20241220T223000
DTSTAMP:20260420T150237
CREATED:20241205T114231Z
LAST-MODIFIED:20241205T114258Z
UID:1573-1734724800-1734733800@boulangerieduprado.com
SUMMARY:Debarulers
DESCRIPTION:Hard rock grunge\n\n\n\n\n\n\n\n\n\n\n\n\n\n\n\n\n\nLe groupe This Way Up initialement annoncé pour cette date a malheureusement annulé sa venue\, mais nous ont trouvé de super remplaçants : Debarulers ! \n\n\n\nPlus d’informations à venir. \n\n\n\n\nInstagram\n\n\n\nFacebook\n\n\n\nSpotify
URL:https://boulangerieduprado.com/evenement/debarulers/
CATEGORIES:Concert
ATTACH;FMTTYPE=image/jpeg:https://boulangerieduprado.com/wp-content/uploads/2024/12/debarulers.jpg
END:VEVENT
BEGIN:VEVENT
DTSTART;TZID=UTC:20241221T200000
DTEND;TZID=UTC:20241221T223000
DTSTAMP:20260420T150237
CREATED:20241205T112606Z
LAST-MODIFIED:20241221T074228Z
UID:1567-1734811200-1734820200@boulangerieduprado.com
SUMMARY:[ANNULÉ] Leda ensemble
DESCRIPTION:Rock blues afro\n\n\n\n\n\n\n\n\n\nCet événement est annulé. \n\n\n\n\nVoir nos prochains spectacles\n\n\n\n\n\n\n\n\n\n\n\n\n\n\n\n\nQuatuor formé autour de Timothée Demoury. \n\n\n\nLe quatuor propose des compositions inspiré de sonorités africaines\, de blues\, de rock. Un projet hybride\, exigeant mais très ouvert. \n\n\n\n\nFacebook
URL:https://boulangerieduprado.com/evenement/leda-ensemble/
CATEGORIES:Concert
ATTACH;FMTTYPE=image/jpeg:https://boulangerieduprado.com/wp-content/uploads/2024/12/leda-ensemble.jpg
END:VEVENT
END:VCALENDAR