BEGIN:VCALENDAR
VERSION:2.0
PRODID:-//La Boulangerie du Prado - ECPv6.15.20//NONSGML v1.0//EN
CALSCALE:GREGORIAN
METHOD:PUBLISH
X-WR-CALNAME:La Boulangerie du Prado
X-ORIGINAL-URL:https://boulangerieduprado.com
X-WR-CALDESC:Évènements pour La Boulangerie du Prado
REFRESH-INTERVAL;VALUE=DURATION:PT1H
X-Robots-Tag:noindex
X-PUBLISHED-TTL:PT1H
BEGIN:VTIMEZONE
TZID:UTC
BEGIN:STANDARD
TZOFFSETFROM:+0000
TZOFFSETTO:+0000
TZNAME:UTC
DTSTART:20230101T000000
END:STANDARD
END:VTIMEZONE
BEGIN:VEVENT
DTSTART;TZID=UTC:20240908T180000
DTEND;TZID=UTC:20240908T210000
DTSTAMP:20260424T085816
CREATED:20240827T102535Z
LAST-MODIFIED:20240902T102246Z
UID:1320-1725818400-1725829200@boulangerieduprado.com
SUMMARY:Assemblée Générale
DESCRIPTION:La Boulangerie du Prado invite tous ses adhérent·es\, mais aussi toutes les personnes curieuses (qui pourront adhérer sur place à prix libre dès 3€)\, à participer à son Assemblée Générale ! Elle a lieu une fois par an. Nous élirons le nouveau CA pour la saison 2024-2025. \n\n\n\nElle est ouverte à tout le monde et vous serez chaleureusement accueilli·es si vous souhaitez comprendre le fonctionnement de la Boulangerie du Prado\, proposer un atelier pour la saison\, devenir bénévole… ou continuer tout ça\, pour les habitué·es !  \n\n\n\nRendez-vous le dimanche 8 septembre à 18h. À bientôt !
URL:https://boulangerieduprado.com/evenement/assemblee-generale/
CATEGORIES:Programmation
ATTACH;FMTTYPE=image/png:https://boulangerieduprado.com/wp-content/uploads/2023/07/fumee-logo.png
END:VEVENT
END:VCALENDAR