BEGIN:VCALENDAR
VERSION:2.0
PRODID:-//La Boulangerie du Prado - ECPv6.15.20//NONSGML v1.0//EN
CALSCALE:GREGORIAN
METHOD:PUBLISH
X-ORIGINAL-URL:https://boulangerieduprado.com
X-WR-CALDESC:Évènements pour La Boulangerie du Prado
REFRESH-INTERVAL;VALUE=DURATION:PT1H
X-Robots-Tag:noindex
X-PUBLISHED-TTL:PT1H
BEGIN:VTIMEZONE
TZID:UTC
BEGIN:STANDARD
TZOFFSETFROM:+0000
TZOFFSETTO:+0000
TZNAME:UTC
DTSTART:20230101T000000
END:STANDARD
END:VTIMEZONE
BEGIN:VEVENT
DTSTART;TZID=UTC:20240912T200000
DTEND;TZID=UTC:20240912T223000
DTSTAMP:20260422T103619
CREATED:20240827T100213Z
LAST-MODIFIED:20240827T100214Z
UID:1312-1726171200-1726180200@boulangerieduprado.com
SUMMARY:Les Fugitifs
DESCRIPTION:Théâtre d’improvisation\n\n\n\n\n\n\n\n\n\n\n\n\n\n\n\n\n\nLes Fugitifs occupent le 1e jeudi de chaque mois les planches de la Boulangerie du Prado pour un spectacle improvisé et inédit. \n\n\n\nPas après pas\, instant après instant\, un lieu prend vie et les projecteurs s’allument sur un décor imaginaire. Un spectacle aussi varié qu’il existe de lieux dans le monde. Un bœuf d’improvisation laissant libre court aux folies de nos comédiens ! \n\n\n\n\nFacebook
URL:https://boulangerieduprado.com/evenement/les-fugitifs-12/
CATEGORIES:Théâtre
ATTACH;FMTTYPE=image/jpeg:https://boulangerieduprado.com/wp-content/uploads/2023/07/les-fugitifs.jpg
END:VEVENT
END:VCALENDAR