BEGIN:VCALENDAR
VERSION:2.0
PRODID:-//La Boulangerie du Prado - ECPv6.15.20//NONSGML v1.0//EN
CALSCALE:GREGORIAN
METHOD:PUBLISH
X-ORIGINAL-URL:https://boulangerieduprado.com
X-WR-CALDESC:Évènements pour La Boulangerie du Prado
REFRESH-INTERVAL;VALUE=DURATION:PT1H
X-Robots-Tag:noindex
X-PUBLISHED-TTL:PT1H
BEGIN:VTIMEZONE
TZID:UTC
BEGIN:STANDARD
TZOFFSETFROM:+0000
TZOFFSETTO:+0000
TZNAME:UTC
DTSTART:20230101T000000
END:STANDARD
END:VTIMEZONE
BEGIN:VEVENT
DTSTART;TZID=UTC:20240913T200000
DTEND;TZID=UTC:20240913T223000
DTSTAMP:20260420T210858
CREATED:20240827T100559Z
LAST-MODIFIED:20240827T100600Z
UID:1314-1726257600-1726266600@boulangerieduprado.com
SUMMARY:Ramon Tapul
DESCRIPTION:Gypsy rock\n\n\n\n\n\n\n\n\n\n\n\n\n\n\n\n\n\nEn survivants du Covid 19\, Ramon Tapul vient des contrées lointaines de Picardie. Dans un style Gypsy-Rock\, c’est sur scène qu’il s’exprime le mieux ! \n\n\n\nLa recette ? Une énergie rock mélangée aux parfums des voyages (tzigane/oriental). L’expérience de la route\, la scène\, la vie… Bref ici\, on chante l’Humain ! \n\n\n\n\nFacebook\n\n\n\nInstagram\n\n\n\nLiens d’écoute
URL:https://boulangerieduprado.com/evenement/ramon-tapul-2/
CATEGORIES:Concert
ATTACH;FMTTYPE=image/jpeg:https://boulangerieduprado.com/wp-content/uploads/2024/04/RAMON-TAPUL-photo-1--scaled.jpg
END:VEVENT
END:VCALENDAR