BEGIN:VCALENDAR
VERSION:2.0
PRODID:-//La Boulangerie du Prado - ECPv6.15.20//NONSGML v1.0//EN
CALSCALE:GREGORIAN
METHOD:PUBLISH
X-ORIGINAL-URL:https://boulangerieduprado.com
X-WR-CALDESC:Évènements pour La Boulangerie du Prado
REFRESH-INTERVAL;VALUE=DURATION:PT1H
X-Robots-Tag:noindex
X-PUBLISHED-TTL:PT1H
BEGIN:VTIMEZONE
TZID:UTC
BEGIN:STANDARD
TZOFFSETFROM:+0000
TZOFFSETTO:+0000
TZNAME:UTC
DTSTART:20230101T000000
END:STANDARD
END:VTIMEZONE
BEGIN:VEVENT
DTSTART;TZID=UTC:20240920T200000
DTEND;TZID=UTC:20240920T223000
DTSTAMP:20260422T085528
CREATED:20240827T104911Z
LAST-MODIFIED:20240827T105324Z
UID:1323-1726862400-1726871400@boulangerieduprado.com
SUMMARY:Concert Flamenco
DESCRIPTION:Avec Ricardo Fernandez (chant)\, Boris Le Mat (guitare) + Artiste invitée (danse)\n\n\n\n\n\n\n\n\n\n\n\n\n\n\n\n\n\nRicardo Fernandez est un chanteur flamenco originaire de Salamanca. Il chante depuis l’âge de 14 ans et revendique un style traditionnel\, caractérisé par une voix puissante et pure. Il a vécu dans la ville de Jerez de la Frontera où il a pu côtoyer de nombreux artistes locaux et se produire dans des peñas flamencas. Il s’est également produit en France et à l’étranger (Italie\, Suisse). \n\n\n\n\nYouTube\n\n\n\n\n\n\n\n\n\n\n\n\n\n\nBoris Le Mat est un guitariste flamenco originaire de Bretagne. Il a vécu 10 ans en Andalousie et s’est formé auprès de nombreux guitaristes reconnus\, notamment au conservatoire supérieur de musique de Córdoba. En 2023 il a sorti son premier disque de compositions personnelles\, Buscando Colores\, enregistré à Sanlúcar avec des artistes de Jerez. \n\n\n\n\nYouTube\n\n\n\nSite web\n\n\n\nDeezer\n\n\n\nSpotify\n\n\n\n\n  \n\n\n\n  \n\n\n\nUne artiste danseuse invitée interprétera des chorégraphies flamenco sur scène. \n\n\n\nÀ cette occasion le trio interprétera différents chants\, solos de guitare et chorégraphies flamencos : soléa\, siguiriya\, alegría\, tangos\, malagueña\, bulería\, rondeña…
URL:https://boulangerieduprado.com/evenement/concert-flamenco/
CATEGORIES:Autre,Concert
ATTACH;FMTTYPE=image/jpeg:https://boulangerieduprado.com/wp-content/uploads/2024/08/flamenco-scaled.jpg
END:VEVENT
END:VCALENDAR