BEGIN:VCALENDAR
VERSION:2.0
PRODID:-//La Boulangerie du Prado - ECPv6.15.20//NONSGML v1.0//EN
CALSCALE:GREGORIAN
METHOD:PUBLISH
X-ORIGINAL-URL:https://boulangerieduprado.com
X-WR-CALDESC:Évènements pour La Boulangerie du Prado
REFRESH-INTERVAL;VALUE=DURATION:PT1H
X-Robots-Tag:noindex
X-PUBLISHED-TTL:PT1H
BEGIN:VTIMEZONE
TZID:UTC
BEGIN:STANDARD
TZOFFSETFROM:+0000
TZOFFSETTO:+0000
TZNAME:UTC
DTSTART:20230101T000000
END:STANDARD
END:VTIMEZONE
BEGIN:VEVENT
DTSTART;TZID=UTC:20240928T200000
DTEND;TZID=UTC:20240928T223000
DTSTAMP:20260422T104717
CREATED:20240827T121946Z
LAST-MODIFIED:20240827T121947Z
UID:1374-1727553600-1727562600@boulangerieduprado.com
SUMMARY:Sex shop mushrooms
DESCRIPTION:Grunge\n\n\n\n\n\n\n\n\n\n\n\n\n\n\n\n\n\n« BREAK NORMS\, SOUND LOUD » \n\n\n\nC’est ainsi que Sex Shop Mushrooms se définit. \n\n\n\nDes paroles crues\, un son cinglant. \n\n\n\nLe 4 octobre 2024\, le groupe sortira son premier album\, « God Doesn’t Exist »\, s’inscrivant dans l’énergie de leur premier succès « Boys on Sale ». \n\n\n\nAprès avoir joué sur des grosses scènes parisiennes (Supersonic\, l’International)\, ils joueront partout à travers la France en 2024. \n\n\n\nVenez tout casser  \n\n\n\n\nFacebook\n\n\n\nInstagram\n\n\n\nBandcamp\n\n\n\nSite web\n\n\n\nSpotify\n\n\n\nSoundcloud
URL:https://boulangerieduprado.com/evenement/sex-shop-mushrooms/
CATEGORIES:Concert
ATTACH;FMTTYPE=image/jpeg:https://boulangerieduprado.com/wp-content/uploads/2024/08/sex-shop-mushrooms.jpg
END:VEVENT
END:VCALENDAR