BEGIN:VCALENDAR
VERSION:2.0
PRODID:-//La Boulangerie du Prado - ECPv6.15.20//NONSGML v1.0//EN
CALSCALE:GREGORIAN
METHOD:PUBLISH
X-WR-CALNAME:La Boulangerie du Prado
X-ORIGINAL-URL:https://boulangerieduprado.com
X-WR-CALDESC:Évènements pour La Boulangerie du Prado
REFRESH-INTERVAL;VALUE=DURATION:PT1H
X-Robots-Tag:noindex
X-PUBLISHED-TTL:PT1H
BEGIN:VTIMEZONE
TZID:UTC
BEGIN:STANDARD
TZOFFSETFROM:+0000
TZOFFSETTO:+0000
TZNAME:UTC
DTSTART:20230101T000000
END:STANDARD
END:VTIMEZONE
BEGIN:VEVENT
DTSTART;TZID=UTC:20241018T200000
DTEND;TZID=UTC:20241018T223000
DTSTAMP:20260422T105212
CREATED:20240827T113600Z
LAST-MODIFIED:20240827T125514Z
UID:1351-1729281600-1729290600@boulangerieduprado.com
SUMMARY:Gipsy Events
DESCRIPTION:Flamenco\, gipsy\, rumba\n\n\n\n\n\n\n\n\n\n\n\n\n\n\n\n\n\nGipsy Events s’inspire de la musique gitane pour donner vie à un répertoire mêlant le flamenco à la pop. En interprétant un éventail de rumba catalane\, reprise de variété ensoleillée et festive\, le duo crée une ambiance chaleureuse et conviviale. De Manitas de Plata à Kendji Girac\, en passant par les incontournable Gipsy Kings\, il revisite leurs titres mythiques ou oubliés. \n\n\n\n\nFacebook
URL:https://boulangerieduprado.com/evenement/gispy-events/
CATEGORIES:Concert
ATTACH;FMTTYPE=image/jpeg:https://boulangerieduprado.com/wp-content/uploads/2024/08/gipsy.jpg
END:VEVENT
END:VCALENDAR