BEGIN:VCALENDAR
VERSION:2.0
PRODID:-//La Boulangerie du Prado - ECPv6.15.20//NONSGML v1.0//EN
CALSCALE:GREGORIAN
METHOD:PUBLISH
X-ORIGINAL-URL:https://boulangerieduprado.com
X-WR-CALDESC:Évènements pour La Boulangerie du Prado
REFRESH-INTERVAL;VALUE=DURATION:PT1H
X-Robots-Tag:noindex
X-PUBLISHED-TTL:PT1H
BEGIN:VTIMEZONE
TZID:UTC
BEGIN:STANDARD
TZOFFSETFROM:+0000
TZOFFSETTO:+0000
TZNAME:UTC
DTSTART:20230101T000000
END:STANDARD
END:VTIMEZONE
BEGIN:VEVENT
DTSTART;TZID=UTC:20241019T200000
DTEND;TZID=UTC:20241019T223000
DTSTAMP:20260420T211832
CREATED:20240827T114210Z
LAST-MODIFIED:20241008T202817Z
UID:1354-1729368000-1729377000@boulangerieduprado.com
SUMMARY:Jay Brush [ANNULÉ]
DESCRIPTION:Rock groovy pop\n\n\n\n\n\n\n\n\n\nCe concert est malheureusement annulé\, mais on vous attend pour nos autres spectacles ! \n\n\n\n\n\n\n\n\n\n\n\nJay Brush illumine les dancefloors d’une pop sensuelle et se pose à la frontière rock d’un nouveau genre. La voix angélique de Jay\, ainsi que sa démarche singulière\, nous guident sur les voies d’un ciel dégagé. Droit sur le chemin d’une liberté émergente et fatalement énergisante pour donner le LA à un horizon changé. \n\n\n\n\nLiens d’écoute et réseaux sociaux
URL:https://boulangerieduprado.com/evenement/jay-brush/
CATEGORIES:Concert
ATTACH;FMTTYPE=image/jpeg:https://boulangerieduprado.com/wp-content/uploads/2024/08/jay-brush-scaled.jpg
END:VEVENT
END:VCALENDAR