BEGIN:VCALENDAR
VERSION:2.0
PRODID:-//La Boulangerie du Prado - ECPv6.15.20//NONSGML v1.0//EN
CALSCALE:GREGORIAN
METHOD:PUBLISH
X-ORIGINAL-URL:https://boulangerieduprado.com
X-WR-CALDESC:Évènements pour La Boulangerie du Prado
REFRESH-INTERVAL;VALUE=DURATION:PT1H
X-Robots-Tag:noindex
X-PUBLISHED-TTL:PT1H
BEGIN:VTIMEZONE
TZID:UTC
BEGIN:STANDARD
TZOFFSETFROM:+0000
TZOFFSETTO:+0000
TZNAME:UTC
DTSTART:20230101T000000
END:STANDARD
END:VTIMEZONE
BEGIN:VEVENT
DTSTART;TZID=UTC:20241025T200000
DTEND;TZID=UTC:20241025T223000
DTSTAMP:20260422T085452
CREATED:20240827T114725Z
LAST-MODIFIED:20240918T202148Z
UID:1361-1729886400-1729895400@boulangerieduprado.com
SUMMARY:Artikal Skank
DESCRIPTION:Reggae\n\n\n\n\n\n\n\n\n\n\n\n\n\n\n\n\n\nTrio reggae acoustique Lyonnais. Compositions français et anglais inspirées du reggae jamaïcain des années 70. \n\n\n\n\nFacebook\n\n\n\nInstagram
URL:https://boulangerieduprado.com/evenement/arti-skank/
CATEGORIES:Concert
END:VEVENT
END:VCALENDAR