BEGIN:VCALENDAR
VERSION:2.0
PRODID:-//La Boulangerie du Prado - ECPv6.15.20//NONSGML v1.0//EN
CALSCALE:GREGORIAN
METHOD:PUBLISH
X-WR-CALNAME:La Boulangerie du Prado
X-ORIGINAL-URL:https://boulangerieduprado.com
X-WR-CALDESC:Évènements pour La Boulangerie du Prado
REFRESH-INTERVAL;VALUE=DURATION:PT1H
X-Robots-Tag:noindex
X-PUBLISHED-TTL:PT1H
BEGIN:VTIMEZONE
TZID:UTC
BEGIN:STANDARD
TZOFFSETFROM:+0000
TZOFFSETTO:+0000
TZNAME:UTC
DTSTART:20230101T000000
END:STANDARD
END:VTIMEZONE
BEGIN:VEVENT
DTSTART;TZID=UTC:20241026T200000
DTEND;TZID=UTC:20241026T223000
DTSTAMP:20260420T193153
CREATED:20240902T102109Z
LAST-MODIFIED:20240902T102110Z
UID:1433-1729972800-1729981800@boulangerieduprado.com
SUMMARY:Cara Zina
DESCRIPTION:Seule en scène féministe et caustique\n\n\n\n\n\n\n\n\n\n\n\n\n\n\n\n\n\nJe parle de moi\, parce que c’est le sujet qui m’intéresse le plus et qui fait de tort à personne. \n\n\n\n\nInstagram\n\n\n\nYouTube
URL:https://boulangerieduprado.com/evenement/cara-zina/
CATEGORIES:Autre,Théâtre
ATTACH;FMTTYPE=image/jpeg:https://boulangerieduprado.com/wp-content/uploads/2024/09/cara-zina.jpg
END:VEVENT
END:VCALENDAR