BEGIN:VCALENDAR
VERSION:2.0
PRODID:-//La Boulangerie du Prado - ECPv6.15.20//NONSGML v1.0//EN
CALSCALE:GREGORIAN
METHOD:PUBLISH
X-WR-CALNAME:La Boulangerie du Prado
X-ORIGINAL-URL:https://boulangerieduprado.com
X-WR-CALDESC:Évènements pour La Boulangerie du Prado
REFRESH-INTERVAL;VALUE=DURATION:PT1H
X-Robots-Tag:noindex
X-PUBLISHED-TTL:PT1H
BEGIN:VTIMEZONE
TZID:UTC
BEGIN:STANDARD
TZOFFSETFROM:+0000
TZOFFSETTO:+0000
TZNAME:UTC
DTSTART:20230101T000000
END:STANDARD
END:VTIMEZONE
BEGIN:VEVENT
DTSTART;TZID=UTC:20241031T200000
DTEND;TZID=UTC:20241031T223000
DTSTAMP:20260422T085046
CREATED:20240827T115224Z
LAST-MODIFIED:20241030T225433Z
UID:1364-1730404800-1730413800@boulangerieduprado.com
SUMMARY:ANNULÉ - Impro Space Gones
DESCRIPTION:Théâtre d’improvisation\n\n\n\n\n\n\n\n\n\nCe spectacle est annulé. \n\n\n\n\n\n\n\n\n\n\n\nCompagnie d’improvisation théâtrale professionnelle de Lyon et Villeurbanne. \n\n\n\nPlus d’informations à venir. \n\n\n\n\nFacebook\n\n\n\nSite web
URL:https://boulangerieduprado.com/evenement/impro-space-gones-3/
CATEGORIES:Théâtre
ATTACH;FMTTYPE=image/jpeg:https://boulangerieduprado.com/wp-content/uploads/2024/08/impro-space-gones.jpg
END:VEVENT
END:VCALENDAR