BEGIN:VCALENDAR
VERSION:2.0
PRODID:-//La Boulangerie du Prado - ECPv6.15.20//NONSGML v1.0//EN
CALSCALE:GREGORIAN
METHOD:PUBLISH
X-ORIGINAL-URL:https://boulangerieduprado.com
X-WR-CALDESC:Évènements pour La Boulangerie du Prado
REFRESH-INTERVAL;VALUE=DURATION:PT1H
X-Robots-Tag:noindex
X-PUBLISHED-TTL:PT1H
BEGIN:VTIMEZONE
TZID:UTC
BEGIN:STANDARD
TZOFFSETFROM:+0000
TZOFFSETTO:+0000
TZNAME:UTC
DTSTART:20230101T000000
END:STANDARD
END:VTIMEZONE
BEGIN:VEVENT
DTSTART;TZID=UTC:20241115T000000
DTEND;TZID=UTC:20241117T235959
DTSTAMP:20260420T193411
CREATED:20241024T150706Z
LAST-MODIFIED:20241106T150730Z
UID:1496-1731628800-1731887999@boulangerieduprado.com
SUMMARY:Week-end de soutien
DESCRIPTION:Santa Jessica + Soirée jazz + bal folk & crêpes\n\n\n\n\n\n\n\n\n\n\n\n\n\n\n\n\n\nLa Boulangerie du Prado traverse malheureusement quelques difficultés financières. Et on tente de résoudre ça avec ce qu’on a de mieux : de beaux spectacles et des coups à boire ! \n\n\n\n\n\n\n\nAu programme\n\n\n\nVendredi 15 novembre à 20h : soirée rock avec Santa Jessica \n\n\n\nSamedi 16 novembre à 20h : soirée Jazz avec Artis et les groupes John Doe & the Masbaha + les Nectarines \n\n\n\nDimanche 17 novembre à 15h : bal folk & crêpes \n\n\n\n\n\n\n\n\nTu veux nous aider en buvant des coups ? N’oublie pas de prendre avec toi des espèces\, nous ne prenons pas la CB !\n\n\n\nTu veux nous aider\, mais pas financièrement ? On a aussi besoin de bénévoles !\n\n\n\nTu veux nous aider\, mais tu n’es pas disponible ce week-end là ? Pas de souci\, on a plein d’autre soirées spectacles !\n\n\n\nTu veux juste profiter de l’événement ? Ta présence est bienvenue : tout est à prix libre\, comme d’habitude !
URL:https://boulangerieduprado.com/evenement/week-end-de-soutien/
CATEGORIES:Programmation
ATTACH;FMTTYPE=image/png:https://boulangerieduprado.com/wp-content/uploads/2024/10/weekend-de-soutien-1.png
END:VEVENT
BEGIN:VEVENT
DTSTART;TZID=UTC:20241115T200000
DTEND;TZID=UTC:20241115T223000
DTSTAMP:20260420T193411
CREATED:20241024T145358Z
LAST-MODIFIED:20241031T214502Z
UID:1497-1731700800-1731709800@boulangerieduprado.com
SUMMARY:Santa Jessica
DESCRIPTION:Garage pop\n\n\n\n\n\n\n\n\n\n\n\n\n\n\n\n\n\nFormation Garage Pop fondée à Lyon en 2023\, Santa Jessica crache un rock rugueux et frénétique porté par une énergie sauvage. S.J\, c’est aussi une ville californienne fictive où les hamsters philosophes côtoient des voitures assoiffées de sang et où les cowboys rencontrent des organes sécessionnistes ; le tout sur fond de lutte des classes. \n\n\n\nCe groupe est programmé dans le cadre d’un week-end de soutien à la Boulangerie du Prado : tout le programme ici !
URL:https://boulangerieduprado.com/evenement/jessica-mars/
CATEGORIES:Concert,Programmation
ATTACH;FMTTYPE=image/png:https://boulangerieduprado.com/wp-content/uploads/2024/10/SANTA-JESSICA-1.png
END:VEVENT
END:VCALENDAR