BEGIN:VCALENDAR
VERSION:2.0
PRODID:-//La Boulangerie du Prado - ECPv6.15.20//NONSGML v1.0//EN
CALSCALE:GREGORIAN
METHOD:PUBLISH
X-ORIGINAL-URL:https://boulangerieduprado.com
X-WR-CALDESC:Évènements pour La Boulangerie du Prado
REFRESH-INTERVAL;VALUE=DURATION:PT1H
X-Robots-Tag:noindex
X-PUBLISHED-TTL:PT1H
BEGIN:VTIMEZONE
TZID:UTC
BEGIN:STANDARD
TZOFFSETFROM:+0000
TZOFFSETTO:+0000
TZNAME:UTC
DTSTART:20230101T000000
END:STANDARD
END:VTIMEZONE
BEGIN:VEVENT
DTSTART;TZID=UTC:20241122T200000
DTEND;TZID=UTC:20241122T223000
DTSTAMP:20260422T085502
CREATED:20240827T141114Z
LAST-MODIFIED:20240827T141115Z
UID:1413-1732305600-1732314600@boulangerieduprado.com
SUMMARY:Papagal
DESCRIPTION:Balkan fusion\n\n\n\n\n\n\n\n\n\n\n\n\n\n\n\nPapagal est un groupe lyonnais de compositions et d’arrangements de traditionnels des musiques d’Europe de l’Est. Des belles mélodies\, des rythmiques endiablées\, des thèmes virtuoses\, le quintet explore toutes les facettes de cette musique à travers ces 2 guitares\, clarinette\, basse et batterie. \n\n\n\n\n\n\n\n\n\n\nhttps://www.youtube.com/watch?v=Ji1rKo2-ac8
URL:https://boulangerieduprado.com/evenement/papagal/
CATEGORIES:Concert
END:VEVENT
END:VCALENDAR