BEGIN:VCALENDAR
VERSION:2.0
PRODID:-//La Boulangerie du Prado - ECPv6.15.20//NONSGML v1.0//EN
CALSCALE:GREGORIAN
METHOD:PUBLISH
X-WR-CALNAME:La Boulangerie du Prado
X-ORIGINAL-URL:https://boulangerieduprado.com
X-WR-CALDESC:Évènements pour La Boulangerie du Prado
REFRESH-INTERVAL;VALUE=DURATION:PT1H
X-Robots-Tag:noindex
X-PUBLISHED-TTL:PT1H
BEGIN:VTIMEZONE
TZID:UTC
BEGIN:STANDARD
TZOFFSETFROM:+0000
TZOFFSETTO:+0000
TZNAME:UTC
DTSTART:20230101T000000
END:STANDARD
END:VTIMEZONE
BEGIN:VEVENT
DTSTART;TZID=UTC:20241129T200000
DTEND;TZID=UTC:20241129T223000
DTSTAMP:20260420T163943
CREATED:20241016T195408Z
LAST-MODIFIED:20241016T195409Z
UID:1465-1732910400-1732919400@boulangerieduprado.com
SUMMARY:Boris Vian pataphysique quartet
DESCRIPTION:Reprises de chansons\n\n\n\n\n\n\n\n\n\n\n\n\n\n\n\n\n\nComposé d’Antoine Vignon à la trompette\, Céline Treuttel aux percussions d’objets sonores\, Florian Gourgeot au pianocktail et Julia Kallmann à la contrebasse\, le Boris Vian Pataphysique 4tet reprend des morceaux du répertoire de Boris Vian\, connus et moins connus\, dans des arrangements chaleureux\, originaux un peu zinzin et hurluberlus. Pataphysiques en somme. \n\n\n\n\nFacebook\n\n\n\nInstagram
URL:https://boulangerieduprado.com/evenement/boris-vian-pataphysique-quartet/
CATEGORIES:Concert
ATTACH;FMTTYPE=image/jpeg:https://boulangerieduprado.com/wp-content/uploads/2024/10/Concert-Boris-Vian-Pataphysique-4tet.jpg
END:VEVENT
END:VCALENDAR