BEGIN:VCALENDAR
VERSION:2.0
PRODID:-//La Boulangerie du Prado - ECPv6.15.20//NONSGML v1.0//EN
CALSCALE:GREGORIAN
METHOD:PUBLISH
X-WR-CALNAME:La Boulangerie du Prado
X-ORIGINAL-URL:https://boulangerieduprado.com
X-WR-CALDESC:Évènements pour La Boulangerie du Prado
REFRESH-INTERVAL;VALUE=DURATION:PT1H
X-Robots-Tag:noindex
X-PUBLISHED-TTL:PT1H
BEGIN:VTIMEZONE
TZID:UTC
BEGIN:STANDARD
TZOFFSETFROM:+0000
TZOFFSETTO:+0000
TZNAME:UTC
DTSTART:20240101T000000
END:STANDARD
END:VTIMEZONE
BEGIN:VEVENT
DTSTART;TZID=UTC:20250110T200000
DTEND;TZID=UTC:20250110T223000
DTSTAMP:20260420T150148
CREATED:20241205T114633Z
LAST-MODIFIED:20241205T114644Z
UID:1577-1736539200-1736548200@boulangerieduprado.com
SUMMARY:Zween
DESCRIPTION:Bal folk\n\n\n\n\n\n\n\n\n\n\n\n\n			\n				\n			\n		\n\n\n\n\n\nZween\, ça veut dire beau\, et bon… Comme un bal !Danseurs expérimentés ou novices\, venez profiter des cercles endiablés\, mazurkas langoureuses\, et autres pas trad sur notre musique toute neuve.Avec deux accordéons diatoniques\, une clarinette\, une guitare et un pandeiro\, nous vous invitons à partager des moments de fête et d’émotions\, au delà des frontières des âges\, des cultures et des styles. \n\n\n\n\nSite web\n\n\n\nSoundcloud
URL:https://boulangerieduprado.com/evenement/zween-2/
CATEGORIES:Autre,Concert
ATTACH;FMTTYPE=image/jpeg:https://boulangerieduprado.com/wp-content/uploads/2024/01/zween-affiche.jpg
END:VEVENT
END:VCALENDAR