BEGIN:VCALENDAR
VERSION:2.0
PRODID:-//La Boulangerie du Prado - ECPv6.15.20//NONSGML v1.0//EN
CALSCALE:GREGORIAN
METHOD:PUBLISH
X-WR-CALNAME:La Boulangerie du Prado
X-ORIGINAL-URL:https://boulangerieduprado.com
X-WR-CALDESC:Évènements pour La Boulangerie du Prado
REFRESH-INTERVAL;VALUE=DURATION:PT1H
X-Robots-Tag:noindex
X-PUBLISHED-TTL:PT1H
BEGIN:VTIMEZONE
TZID:UTC
BEGIN:STANDARD
TZOFFSETFROM:+0000
TZOFFSETTO:+0000
TZNAME:UTC
DTSTART:20240101T000000
END:STANDARD
END:VTIMEZONE
BEGIN:VEVENT
DTSTART;TZID=UTC:20250117T200000
DTEND;TZID=UTC:20250117T223000
DTSTAMP:20260420T163805
CREATED:20241205T115253Z
LAST-MODIFIED:20241205T115255Z
UID:1583-1737144000-1737153000@boulangerieduprado.com
SUMMARY:El cartel flamenco
DESCRIPTION:Spectacle flamenco\n\n\n\n\n\n\n\n\n\n\n\n\n\n\n\n\n\nMélange explosif flamenco et latino. \n\n\n\nC’est illégal\, car le flamenco ne se fait pas par des latinos\, on n’est pas légitimes pour le faire\, mais… on le fait quand même. \n\n\n\nDeux artistes :  \n\n\n\nVivi Roma\, de Colombie et  \n\n\n\nAlex Silva de Cuba pour chauffer au rythme de flamenco y rythmes cubains la scène. \n\n\n\n\nFacebook\n\n\n\nInstagram\n\n\n\nYouTube
URL:https://boulangerieduprado.com/evenement/el-cartel-flamenco-2/
CATEGORIES:Autre,Concert
ATTACH;FMTTYPE=image/jpeg:https://boulangerieduprado.com/wp-content/uploads/2024/12/el-cartel-flamenco.jpg
END:VEVENT
END:VCALENDAR