BEGIN:VCALENDAR
VERSION:2.0
PRODID:-//La Boulangerie du Prado - ECPv6.15.20//NONSGML v1.0//EN
CALSCALE:GREGORIAN
METHOD:PUBLISH
X-WR-CALNAME:La Boulangerie du Prado
X-ORIGINAL-URL:https://boulangerieduprado.com
X-WR-CALDESC:Évènements pour La Boulangerie du Prado
REFRESH-INTERVAL;VALUE=DURATION:PT1H
X-Robots-Tag:noindex
X-PUBLISHED-TTL:PT1H
BEGIN:VTIMEZONE
TZID:UTC
BEGIN:STANDARD
TZOFFSETFROM:+0000
TZOFFSETTO:+0000
TZNAME:UTC
DTSTART:20240101T000000
END:STANDARD
END:VTIMEZONE
BEGIN:VEVENT
DTSTART;TZID=UTC:20250124T200000
DTEND;TZID=UTC:20250124T223000
DTSTAMP:20260420T162938
CREATED:20241205T121232Z
LAST-MODIFIED:20250118T181752Z
UID:1598-1737748800-1737757800@boulangerieduprado.com
SUMMARY:Hisope
DESCRIPTION:Concert poétique & bohème \n\n\n\n\n\n\n\n\n\n\n\n\n\n\n\n\n\n« Femme re-belle » est un spectacle captivant\, porté par Hisope\, une artiste de renommée qui incarne à la perfection la poésie et le féminisme avec une sensualité inouïe. En aède moderne\, elle revisite les plus grandes icônes féminines comme Piaf\, Françoise Hardy et Amy Winehouse\, tout en sublimant l’instant de ses compositions personnelles. Accompagnée de sa guitare\, elle crée une alchimie rare entre lyrisme et émotion brute\, dans une ambiance bohème\, glamour et profondément spirituelle. Hisope captive son public par sa délicatesse\, son audace et son engagement\, offrant un spectacle à la fois genuine et audacieux. Chaque note de musique résonne avec une tendresse infinie et une force féminine étincelante. Son charisme naturel et son talent transforment ce moment en une expérience unique\, où la joie et l’émotion se mêlent à la convivialité. La soirée se termine dans un partage chaleureux autour d’un verre\, laissant derrière elle une empreinte durable. \n\n\n\n\nRéseaux\n\n\n\n\n\n\n\n\n\n\n\nhttps://www.youtube.com/watch?v=5FFgW3PHgtI\n\n\n\n\n\n\n\n\nInfos pratiquesOuverture des portes à 20h\, spectacle à 20h30.L’adhésion à l’association est obligatoire pour assister au spectacle (valable pour la saison de septembre à juillet\, à prix libre dès 3€).L’entrée est à prix libre au chapeau pour l’artiste !Attention : la Boulangerie du Prado n’accepte que les espèces.
URL:https://boulangerieduprado.com/evenement/hisope/
CATEGORIES:Concert
ATTACH;FMTTYPE=image/jpeg:https://boulangerieduprado.com/wp-content/uploads/2024/12/hisope-scaled.jpg
END:VEVENT
END:VCALENDAR