BEGIN:VCALENDAR
VERSION:2.0
PRODID:-//La Boulangerie du Prado - ECPv6.15.20//NONSGML v1.0//EN
CALSCALE:GREGORIAN
METHOD:PUBLISH
X-ORIGINAL-URL:https://boulangerieduprado.com
X-WR-CALDESC:Évènements pour La Boulangerie du Prado
REFRESH-INTERVAL;VALUE=DURATION:PT1H
X-Robots-Tag:noindex
X-PUBLISHED-TTL:PT1H
BEGIN:VTIMEZONE
TZID:UTC
BEGIN:STANDARD
TZOFFSETFROM:+0000
TZOFFSETTO:+0000
TZNAME:UTC
DTSTART:20240101T000000
END:STANDARD
END:VTIMEZONE
BEGIN:VEVENT
DTSTART;TZID=UTC:20250201T200000
DTEND;TZID=UTC:20250201T223000
DTSTAMP:20260420T133614
CREATED:20250116T162809Z
LAST-MODIFIED:20250201T174216Z
UID:1659-1738440000-1738449000@boulangerieduprado.com
SUMMARY:[ANNULÉ] piA MErv
DESCRIPTION:Electro\, ambient\, jazz\n\n\n\n\n\nCe spectacle est malheureusement annulé. \n\n\n\n\nVoir nos autres spectacles
URL:https://boulangerieduprado.com/evenement/pia-merv/
CATEGORIES:Concert
END:VEVENT
END:VCALENDAR