BEGIN:VCALENDAR
VERSION:2.0
PRODID:-//La Boulangerie du Prado - ECPv6.15.20//NONSGML v1.0//EN
CALSCALE:GREGORIAN
METHOD:PUBLISH
X-ORIGINAL-URL:https://boulangerieduprado.com
X-WR-CALDESC:Évènements pour La Boulangerie du Prado
REFRESH-INTERVAL;VALUE=DURATION:PT1H
X-Robots-Tag:noindex
X-PUBLISHED-TTL:PT1H
BEGIN:VTIMEZONE
TZID:UTC
BEGIN:STANDARD
TZOFFSETFROM:+0000
TZOFFSETTO:+0000
TZNAME:UTC
DTSTART:20240101T000000
END:STANDARD
END:VTIMEZONE
BEGIN:VEVENT
DTSTART;TZID=UTC:20250206T200000
DTEND;TZID=UTC:20250206T223000
DTSTAMP:20260420T133614
CREATED:20250116T162527Z
LAST-MODIFIED:20250129T155845Z
UID:1655-1738872000-1738881000@boulangerieduprado.com
SUMMARY:Trouve toi un mari fragile
DESCRIPTION:Lecture performance\n\n\n\n\n\n\n\n\n\n\n\n\n\n\n\n\n\n\n\n\n\nPièce de théâtre sur les violences éducatives. \n\n\n\nUne fille lesbienne affronte sa mère dans un cabinet de psy. \n\n\n\nSur scène\n\n\n\n\nNino Agouni\n\n\n\nMarion Lemon\n\n\n\nLiam Noguet\n\n\n\n\nTexte et mise en scène Sophie Bazy. \n\n\n\n \n\n\n\nDéconseillé – 12 ans. \n\n\n\n\n\n\n\n\n\nInfos pratiquesOuverture des portes à 20h\, spectacle à 20h30.L’adhésion à l’association est obligatoire pour assister au spectacle (valable pour la saison de septembre à juillet\, à prix libre dès 3€).L’entrée est à prix libre au chapeau pour les artistes !Attention : la Boulangerie du Prado n’accepte que les espèces.
URL:https://boulangerieduprado.com/evenement/trouve-toi-un-mari-fragile/
CATEGORIES:Théâtre
ATTACH;FMTTYPE=image/png:https://boulangerieduprado.com/wp-content/uploads/2025/01/trouve-toi-un-mari-fragile.png
END:VEVENT
END:VCALENDAR