BEGIN:VCALENDAR
VERSION:2.0
PRODID:-//La Boulangerie du Prado - ECPv6.15.20//NONSGML v1.0//EN
CALSCALE:GREGORIAN
METHOD:PUBLISH
X-WR-CALNAME:La Boulangerie du Prado
X-ORIGINAL-URL:https://boulangerieduprado.com
X-WR-CALDESC:Évènements pour La Boulangerie du Prado
REFRESH-INTERVAL;VALUE=DURATION:PT1H
X-Robots-Tag:noindex
X-PUBLISHED-TTL:PT1H
BEGIN:VTIMEZONE
TZID:UTC
BEGIN:STANDARD
TZOFFSETFROM:+0000
TZOFFSETTO:+0000
TZNAME:UTC
DTSTART:20240101T000000
END:STANDARD
END:VTIMEZONE
BEGIN:VEVENT
DTSTART;TZID=UTC:20250207T200000
DTEND;TZID=UTC:20250207T223000
DTSTAMP:20260420T133431
CREATED:20250116T161928Z
LAST-MODIFIED:20250118T183202Z
UID:1651-1738958400-1738967400@boulangerieduprado.com
SUMMARY:Des femmes debout
DESCRIPTION:Chansons & lectures féministes\n\n\n\n\n\n\n\n\n\n\n\n\n\n\n\n\n\nDes femmes debout\, chansons et lectures sur la place des femmes dans la société françaises de 1914 à aujourd’hui\n\n\n\nDaphné Dauvillier est parolière – compositrice – interprète. Élevée au lait de la chanson à texte et des protest songs\, elle interroge en chansons la place des femmes dans la société française au fil des décennies. Elle a sorti en juin 2023 un premier album intitulé Debout complété d’un recueil de nouvelles. \n\n\n\nLes femmes qui habitent le spectacle Des femmes debout n’ont pas marqué l’histoire avec un grand H\, mais on les reconnaît facilement : vous n’y trouverez pas de grands destins\, pas de femmes célèbres… Par contre\, vous y croiserez vos copines d’enfance\, vos mères\, vos sœurs\, vos épouses. Bref\, les femmes que vous côtoyez tous les jours : des filles avec des rêves\, des doutes\, des projets\, des rides\, de l’Amour en réserve\, des kilos en trop ou en pas assez\, des hommes qu’elles aiment et d’autres moins\, un job\, une famille\, quelques cernes… \n\n\n\nElles s’appellent Madeleine\, Solange\, Caroline ou Margot. Elles ont eu vingt ans en 1914\, en 1960\, en 1985 ou en 2000. Chacune des chansons-portraits qui les raconte nous replace dans les enjeux sociétaux de leurs époques et les grandes lois qui leur ont permis de gagner en liberté et en indépendance. \n\n\n\nLeur point commun : vivre leur vie sans capituler\, aimer qui elles veulent et\, quelles que soient les tempêtes qu’elles traversent\, en sortir rafistolées\, souriantes\, libérées\, résilientes et toujours debout ! \n\n\n\nDes femmes debout est un spectacle qui résonne du célèbre « N’oubliez jamais qu’il suffira d’une crise politique pour que vos droits soient remis en cause. Vous devrez toujours rester vigilantes ! » de Simone de Beauvoir. \n\n\n\n\nSite web\n\n\n\nFacebook\n\n\n\nSoundcloud\n\n\n\n\n\n\n\n\n\n\nInfos pratiquesOuverture des portes à 20h\, spectacle à 20h30.L’adhésion à l’association est obligatoire pour assister au spectacle (valable pour la saison de septembre à juillet\, à prix libre dès 3€).L’entrée est à prix libre au chapeau pour l’artiste !Attention : la Boulangerie du Prado n’accepte que les espèces.
URL:https://boulangerieduprado.com/evenement/des-femmes-debout/
CATEGORIES:Autre
ATTACH;FMTTYPE=image/jpeg:https://boulangerieduprado.com/wp-content/uploads/2025/01/DD_DesFemmesDebout.jpg
END:VEVENT
END:VCALENDAR