BEGIN:VCALENDAR
VERSION:2.0
PRODID:-//La Boulangerie du Prado - ECPv6.15.20//NONSGML v1.0//EN
CALSCALE:GREGORIAN
METHOD:PUBLISH
X-WR-CALNAME:La Boulangerie du Prado
X-ORIGINAL-URL:https://boulangerieduprado.com
X-WR-CALDESC:Évènements pour La Boulangerie du Prado
REFRESH-INTERVAL;VALUE=DURATION:PT1H
X-Robots-Tag:noindex
X-PUBLISHED-TTL:PT1H
BEGIN:VTIMEZONE
TZID:UTC
BEGIN:STANDARD
TZOFFSETFROM:+0000
TZOFFSETTO:+0000
TZNAME:UTC
DTSTART:20240101T000000
END:STANDARD
END:VTIMEZONE
BEGIN:VEVENT
DTSTART;TZID=UTC:20250210T180000
DTEND;TZID=UTC:20250210T200000
DTSTAMP:20260420T133559
CREATED:20250128T192308Z
LAST-MODIFIED:20250210T163508Z
UID:1738-1739210400-1739217600@boulangerieduprado.com
SUMMARY:Vernissage : Algues en état d'ébriété
DESCRIPTION:Vernissage Aude Descombes\n\n\n\n\n\n\n\n\n\n\n\n\n\n\n\n\n\nUne chimère\, une étoile numérique\,À la chevelure humaine\, aux dents de microbiote\, aux ventres de cigales… »À partir d’un texte retrouvé dans les limbes de mes écrits d’automne\, je compose par assemblages et rencontres improbables le portrait d’une créature chimérique.Des débris\, couleurs et coulures se rassemblent en diverses concrétions et parent les murs de la Boulangerie. \n\n\n\n\nInstagram\n\n\n\nSite internet\n\n\n\n\n\n\nAvec une formation aux Beaux-Arts puis en maquillage\, c’est sous le prisme de la peinture que j’aborde la création même si les supports et techniques peuvent varier.Je perçois les choses avant tout en terme de couleurs\, rythme et matière.J’aspire à me connecter au présent par une célébration du vivant et une poétique de l’éphémère\, une attention à ce qui est.« La juxtaposition de formes improbables et la diversité des matières rassemblées dessinent un territoire qui brouille la hiérarchie des échelles et les frontières les mieux établies\, sous des drapés et des poignées de confettis. (…) » Extrait du texte de Christian Sozzi à propos de mon exposition « Georges et Dragon » à la Galerie B+ en 2023. \n\n\n\nNavigation Évènement
URL:https://boulangerieduprado.com/evenement/vernissage-aude-descombes/
CATEGORIES:Vernissage
ATTACH;FMTTYPE=image/jpeg:https://boulangerieduprado.com/wp-content/uploads/2025/02/Aude.jpg
END:VEVENT
END:VCALENDAR