BEGIN:VCALENDAR
VERSION:2.0
PRODID:-//La Boulangerie du Prado - ECPv6.15.20//NONSGML v1.0//EN
CALSCALE:GREGORIAN
METHOD:PUBLISH
X-ORIGINAL-URL:https://boulangerieduprado.com
X-WR-CALDESC:Évènements pour La Boulangerie du Prado
REFRESH-INTERVAL;VALUE=DURATION:PT1H
X-Robots-Tag:noindex
X-PUBLISHED-TTL:PT1H
BEGIN:VTIMEZONE
TZID:UTC
BEGIN:STANDARD
TZOFFSETFROM:+0000
TZOFFSETTO:+0000
TZNAME:UTC
DTSTART:20240101T000000
END:STANDARD
END:VTIMEZONE
BEGIN:VEVENT
DTSTART;TZID=UTC:20250215T200000
DTEND;TZID=UTC:20250215T223000
DTSTAMP:20260420T133732
CREATED:20250116T165326Z
LAST-MODIFIED:20250128T184440Z
UID:1664-1739649600-1739658600@boulangerieduprado.com
SUMMARY:Shingouz
DESCRIPTION:Électro jazz\n\n\n\n\n\n\n\n\n\n\n\n\n\nShingouz\n\n\n\nLe trio électro groov’n’jazz Shingouz propose une musique dansante mais exigeante\, mêlant grooves efficaces et improvisation. Les styles vont de l’électro au jazz en passant par le funk\, le hip hop et la house\, et des ambiances plus posées. \n\n\n\n\nBandcamp\n\n\n\n\n\n\n\n\nBadlab\n\n\n\nBAD LAB est le résultat d’une série d’expérimentations incluantmusique électronique et funk. C’est une dose d’adrénaline\, une force pure et vivante. \n\n\n\n\nInstagram\n\n\n\n\n\n\n\n\n\n\n\n\n\n\n\n \n\n\n\n\n\n\n\n\n\nhttps://www.youtube.com/watch?v=qHz9osoKxTA\n\n\n\n\n\n\n\n\nInfos pratiquesOuverture des portes à 20h\, spectacle à 20h30.L’adhésion à l’association est obligatoire pour assister au spectacle (valable pour la saison de septembre à juillet\, à prix libre dès 3€).L’entrée est à prix libre au chapeau pour les artistes !Attention : la Boulangerie du Prado n’accepte que les espèces.
URL:https://boulangerieduprado.com/evenement/shingouz/
CATEGORIES:Concert
ATTACH;FMTTYPE=image/png:https://boulangerieduprado.com/wp-content/uploads/2025/01/Shingouz-3.png
END:VEVENT
END:VCALENDAR