BEGIN:VCALENDAR
VERSION:2.0
PRODID:-//La Boulangerie du Prado - ECPv6.15.20//NONSGML v1.0//EN
CALSCALE:GREGORIAN
METHOD:PUBLISH
X-ORIGINAL-URL:https://boulangerieduprado.com
X-WR-CALDESC:Évènements pour La Boulangerie du Prado
REFRESH-INTERVAL;VALUE=DURATION:PT1H
X-Robots-Tag:noindex
X-PUBLISHED-TTL:PT1H
BEGIN:VTIMEZONE
TZID:UTC
BEGIN:STANDARD
TZOFFSETFROM:+0000
TZOFFSETTO:+0000
TZNAME:UTC
DTSTART:20240101T000000
END:STANDARD
END:VTIMEZONE
BEGIN:VEVENT
DTSTART;TZID=UTC:20250221T200000
DTEND;TZID=UTC:20250221T223000
DTSTAMP:20260420T133732
CREATED:20250116T174948Z
LAST-MODIFIED:20250219T203352Z
UID:1666-1740168000-1740177000@boulangerieduprado.com
SUMMARY:Le cercle des humoristes anonymes
DESCRIPTION:Stand up\n\n\n\n\n\n\n\n\n\n\n\n\n\n\n\n\n\nDes humoristes vous feront passer une soirée placée sous le signe du rire et de la bonne humeur\, en partageant leurs anecdotes les plus hilarantes ! \n\n\n\n\nInstagram\n\n\n\n\n\n\n\n\n\n\n \n\n\n\nInfos pratiquesOuverture des portes à 20h\, spectacle à 20h30.L’adhésion à l’association est obligatoire pour assister au spectacle (valable pour la saison de septembre à juillet\, à prix libre dès 3€).L’entrée est à prix libre au chapeau pour les artistes !Attention : la Boulangerie du Prado n’accepte que les espèces.
URL:https://boulangerieduprado.com/evenement/le-cercle-des-humoristes-anonymes-3/
CATEGORIES:Autre,Théâtre
ATTACH;FMTTYPE=image/jpeg:https://boulangerieduprado.com/wp-content/uploads/2025/01/Affiche-16-9-1-scaled.jpg
END:VEVENT
END:VCALENDAR