BEGIN:VCALENDAR
VERSION:2.0
PRODID:-//La Boulangerie du Prado - ECPv6.15.20//NONSGML v1.0//EN
CALSCALE:GREGORIAN
METHOD:PUBLISH
X-WR-CALNAME:La Boulangerie du Prado
X-ORIGINAL-URL:https://boulangerieduprado.com
X-WR-CALDESC:Évènements pour La Boulangerie du Prado
REFRESH-INTERVAL;VALUE=DURATION:PT1H
X-Robots-Tag:noindex
X-PUBLISHED-TTL:PT1H
BEGIN:VTIMEZONE
TZID:UTC
BEGIN:STANDARD
TZOFFSETFROM:+0000
TZOFFSETTO:+0000
TZNAME:UTC
DTSTART:20240101T000000
END:STANDARD
END:VTIMEZONE
BEGIN:VEVENT
DTSTART;TZID=UTC:20250314T200000
DTEND;TZID=UTC:20250314T223000
DTSTAMP:20260420T151923
CREATED:20250219T203509Z
LAST-MODIFIED:20250221T195827Z
UID:1857-1741982400-1741991400@boulangerieduprado.com
SUMMARY:La bande à Balk
DESCRIPTION:Musique des balkans\n\n\n\n\n\n\n\n\n\n\n\n\n\n\n\n\n\nUne bonne dizaine de musicien(ne)s chaud-bouillant(e)s formés à la source pour vous faire danser aux sons et aux rythmes des musiques traditionnelles de Bulgarie\, Roumanie\, Macédoine du Nord\, Grèce\, Serbie… Prêts pour le voyage?Attention ça secoue\, ça bouleverse\, ça transporte\, c’est la Bande à Balk ! \n\n\n\n\nSite web\n\n\n\nInstagram\n\n\n\nFacebook\n\n\n\n\n\n\n\n\n\n\n\n\n\n\n\n \n\n\n\n\n\n\n\n\nInfos pratiquesOuverture des portes à 20h\, spectacle à 20h30.L’adhésion à l’association est obligatoire pour assister au spectacle (valable pour la saison de septembre à juillet\, à prix libre dès 3€).L’entrée est à prix libre au chapeau pour les artistes !Attention : la Boulangerie du Prado n’accepte que les espèces.
URL:https://boulangerieduprado.com/evenement/la-bande-a-balk-2/
CATEGORIES:Concert
ATTACH;FMTTYPE=image/jpeg:https://boulangerieduprado.com/wp-content/uploads/2025/02/bande-a-balk-2-scaled.jpg
END:VEVENT
END:VCALENDAR