BEGIN:VCALENDAR
VERSION:2.0
PRODID:-//La Boulangerie du Prado - ECPv6.15.20//NONSGML v1.0//EN
CALSCALE:GREGORIAN
METHOD:PUBLISH
X-ORIGINAL-URL:https://boulangerieduprado.com
X-WR-CALDESC:Évènements pour La Boulangerie du Prado
REFRESH-INTERVAL;VALUE=DURATION:PT1H
X-Robots-Tag:noindex
X-PUBLISHED-TTL:PT1H
BEGIN:VTIMEZONE
TZID:UTC
BEGIN:STANDARD
TZOFFSETFROM:+0000
TZOFFSETTO:+0000
TZNAME:UTC
DTSTART:20240101T000000
END:STANDARD
END:VTIMEZONE
BEGIN:VEVENT
DTSTART;TZID=UTC:20250315T200000
DTEND;TZID=UTC:20250315T223000
DTSTAMP:20260420T152423
CREATED:20250219T203602Z
LAST-MODIFIED:20250221T204413Z
UID:1860-1742068800-1742077800@boulangerieduprado.com
SUMMARY:SèveS
DESCRIPTION:Chanson\n\n\n\n\n\n\n\n\n\n\n\n\n\n\n\n\n\nSèveS\n\n\n\nTout nouveau répertoire écrit et composé par le duo ! \n\n\n\nSEVES duo d’un arbre\, sème ses polyphonies\, écrit et compose des chansons dans l’air du vent. \n\n\n\nLeurs textes sensibles dévoilent à demi-mots l’amer de la nuit et l’amour de la vie. La sublimation des maux est la source d’inspiration de leur écriture. \n\n\n\nBaignées toutes deux dans un environnement mélomane foisonnant\, Guylaine Gerum et Alice Biaux composent des chansons pour deux voix\, piano\, percussions corporelles et looper. \n\n\n\nComplices dans leur créativité\, elles partagent l’amour du rythme\, de l’harmonie et de l’improvisation pour vous souffler leurs mélodies avec douceur et énergie. \n\n\n\n\nFacebook\n\n\n\n\n\n\n\n\n1e partie : Flora\n\n\n\nL’oiseau qui vit dans ma poitrine me dit: chante! \n\n\n\nL’araignée de mes mains dit : joue! tisse-moi une mélodie pour me bercer… \n\n\n\nJe tends l’oreille et j’écoute les chansons qui sont prêtes à naître. Je les découvre\, je les allaite\, je les aide à grandir\, elles ont encore du chemin à parcourir. \n\n\n\n\n\n\n\n\n\n \n\n\n\nInfos pratiquesOuverture des portes à 20h\, spectacle à 20h30.L’adhésion à l’association est obligatoire pour assister au spectacle (valable pour la saison de septembre à juillet\, à prix libre dès 3€).L’entrée est à prix libre au chapeau pour les artistes !Attention : la Boulangerie du Prado n’accepte que les espèces.
URL:https://boulangerieduprado.com/evenement/seve/
CATEGORIES:Concert
ATTACH;FMTTYPE=image/jpeg:https://boulangerieduprado.com/wp-content/uploads/2025/02/photo-Flora-et-Seves.jpg
END:VEVENT
END:VCALENDAR