BEGIN:VCALENDAR
VERSION:2.0
PRODID:-//La Boulangerie du Prado - ECPv6.15.20//NONSGML v1.0//EN
CALSCALE:GREGORIAN
METHOD:PUBLISH
X-WR-CALNAME:La Boulangerie du Prado
X-ORIGINAL-URL:https://boulangerieduprado.com
X-WR-CALDESC:Évènements pour La Boulangerie du Prado
REFRESH-INTERVAL;VALUE=DURATION:PT1H
X-Robots-Tag:noindex
X-PUBLISHED-TTL:PT1H
BEGIN:VTIMEZONE
TZID:UTC
BEGIN:STANDARD
TZOFFSETFROM:+0000
TZOFFSETTO:+0000
TZNAME:UTC
DTSTART:20240101T000000
END:STANDARD
END:VTIMEZONE
BEGIN:VEVENT
DTSTART;TZID=UTC:20250322T200000
DTEND;TZID=UTC:20250322T223000
DTSTAMP:20260420T151645
CREATED:20250219T203726Z
LAST-MODIFIED:20251020T184118Z
UID:1862-1742673600-1742682600@boulangerieduprado.com
SUMMARY:[ANNULÉ] Scène ouverte Hélène BDay
DESCRIPTION:Scène ouverte\n\n\n\n\n\n\n\n\n\nCe spectacle est malheureusement annulé. \n\n\n\n\nVoir nos autres spectacles
URL:https://boulangerieduprado.com/evenement/scene-ouverte-helene-bday/
CATEGORIES:Autre
ATTACH;FMTTYPE=image/png:https://boulangerieduprado.com/wp-content/uploads/2025/02/40-ans.png
END:VEVENT
END:VCALENDAR