BEGIN:VCALENDAR
VERSION:2.0
PRODID:-//La Boulangerie du Prado - ECPv6.15.20//NONSGML v1.0//EN
CALSCALE:GREGORIAN
METHOD:PUBLISH
X-ORIGINAL-URL:https://boulangerieduprado.com
X-WR-CALDESC:Évènements pour La Boulangerie du Prado
REFRESH-INTERVAL;VALUE=DURATION:PT1H
X-Robots-Tag:noindex
X-PUBLISHED-TTL:PT1H
BEGIN:VTIMEZONE
TZID:UTC
BEGIN:STANDARD
TZOFFSETFROM:+0000
TZOFFSETTO:+0000
TZNAME:UTC
DTSTART:20240101T000000
END:STANDARD
END:VTIMEZONE
BEGIN:VEVENT
DTSTART;TZID=UTC:20250329T200000
DTEND;TZID=UTC:20250329T223000
DTSTAMP:20260422T122405
CREATED:20250225T185417Z
LAST-MODIFIED:20250225T185539Z
UID:1879-1743278400-1743287400@boulangerieduprado.com
SUMMARY:Oddball Creatures + Cutting Corners
DESCRIPTION:Pop punk\n\n\n\n\n\n\n\n\n\n\n\n\n\n\n\n\n\nOddball creatures\n\n\n\nAprès plusieurs années de travail plus ou moins acharné\, les Oddball Creatures ont enfin terminé leur album. Il est temps d’en célébrer la sortie comme il se doit. Le trio pop-punk jouera donc les compositions de Kids Of The Ramones pour les privilégiés et les impatients qui auront l’occasion de mettre la main sur le CD le plus important de 2025. \n\n\n\n\nFacebook\n\n\n\nBandcamp\n\n\n\n\n\n\n\n\nCutting corners\n\n\n\nPour régaler vos oreilles avec des chansons que vous pourrez chanter en chœur\, les Cutting Corners vous serviront un set de tubes rock sur lesquels vous pourrez vous époumoner ou remuer du popotin (ou les deux à la fois). Sourire aux lèvres garanti à la fin de leur set. \n\n\n\n\nFacebook\n\n\n\n\n\n\n\n\n\n\n\n\n\n\n\n \n\n\n\n\n\n\n\n\nInfos pratiquesOuverture des portes à 20h\, spectacle à 20h30.L’adhésion à l’association est obligatoire pour assister au spectacle (valable pour la saison de septembre à juillet\, à prix libre dès 3€).L’entrée est à prix libre au chapeau pour les artistes !Attention : la Boulangerie du Prado n’accepte que les espèces.
URL:https://boulangerieduprado.com/evenement/oddball-creatures-cutting-corners/
CATEGORIES:Concert
ATTACH;FMTTYPE=image/jpeg:https://boulangerieduprado.com/wp-content/uploads/2025/02/oddball.jpg
END:VEVENT
END:VCALENDAR