BEGIN:VCALENDAR
VERSION:2.0
PRODID:-//La Boulangerie du Prado - ECPv6.15.20//NONSGML v1.0//EN
CALSCALE:GREGORIAN
METHOD:PUBLISH
X-ORIGINAL-URL:https://boulangerieduprado.com
X-WR-CALDESC:Évènements pour La Boulangerie du Prado
REFRESH-INTERVAL;VALUE=DURATION:PT1H
X-Robots-Tag:noindex
X-PUBLISHED-TTL:PT1H
BEGIN:VTIMEZONE
TZID:UTC
BEGIN:STANDARD
TZOFFSETFROM:+0000
TZOFFSETTO:+0000
TZNAME:UTC
DTSTART:20240101T000000
END:STANDARD
END:VTIMEZONE
BEGIN:VEVENT
DTSTART;TZID=UTC:20250411T200000
DTEND;TZID=UTC:20250411T223000
DTSTAMP:20260420T200502
CREATED:20250313T160305Z
LAST-MODIFIED:20250313T160307Z
UID:1915-1744401600-1744410600@boulangerieduprado.com
SUMMARY:Rimé
DESCRIPTION:Rap\n\n\n\n\n\n\n\n\n\n\n\n\n\n\n\n\n\nCicatrices créatrices.  \n\n\n\nDeux mots forts et sans équivoque que l’on pourrait utiliser pour présenter l’univers artistique de Rimé\, rappeur à la plume mélancoliquement engagée.  \n\n\n\nUne poésie sombre teintée d’engagements humains\, sociaux\, politiques\, de sujets sensibles\, de vécus personnels et de tourments entêtants. \n\n\n\nAvec ses deux collègues et amis\, Horizon Zéro\, aux platines\, et Téty\, aux backs\, Rimé viendra présenter son nouvel album « J’aurais voulu être un art triste ». \n\n\n\nCrédit photo : Claude Van Ryssel. \n\n\n\n\nÉcouter l’album\n\n\n\n\n\n\n\n\n\n\n\n\n\n\n\n \n\n\n\n\n\n\n\n\nInfos pratiquesOuverture des portes à 20h\, spectacle à 20h30.L’adhésion à l’association est obligatoire pour assister au spectacle (valable pour la saison de septembre à juillet\, à prix libre dès 3€).L’entrée est à prix libre au chapeau pour les artistes !Attention : la Boulangerie du Prado n’accepte que les espèces.
URL:https://boulangerieduprado.com/evenement/rime-2/
CATEGORIES:Concert
ATTACH;FMTTYPE=image/jpeg:https://boulangerieduprado.com/wp-content/uploads/2025/03/rime-scaled.jpg
END:VEVENT
END:VCALENDAR