BEGIN:VCALENDAR
VERSION:2.0
PRODID:-//La Boulangerie du Prado - ECPv6.15.20//NONSGML v1.0//EN
CALSCALE:GREGORIAN
METHOD:PUBLISH
X-ORIGINAL-URL:https://boulangerieduprado.com
X-WR-CALDESC:Évènements pour La Boulangerie du Prado
REFRESH-INTERVAL;VALUE=DURATION:PT1H
X-Robots-Tag:noindex
X-PUBLISHED-TTL:PT1H
BEGIN:VTIMEZONE
TZID:UTC
BEGIN:STANDARD
TZOFFSETFROM:+0000
TZOFFSETTO:+0000
TZNAME:UTC
DTSTART:20240101T000000
END:STANDARD
END:VTIMEZONE
BEGIN:VEVENT
DTSTART;TZID=UTC:20250501T200000
DTEND;TZID=UTC:20250501T223000
DTSTAMP:20260422T134707
CREATED:20250410T195315Z
LAST-MODIFIED:20250423T192355Z
UID:1943-1746129600-1746138600@boulangerieduprado.com
SUMMARY:Dynamic Acte
DESCRIPTION:Spectacle\n\n\n\n\n\n\n\n\n\n\n\n\n\n\n\n\n\nDans le brouhaha de la vie\, les liens se tissent\, les histoires s’enchaînent et les gens changent. \n\n\n\n3 temps\, 3 mouvements\, c’est l’évolution de personnages crées sous l’impulsion du public\, pris dans les rouages du temps qui passe. \n\n\n\nBienvenue dans l’engrenage du Harold\, un long form d’improvisation théâtrale en trois temps.. \n\n\n\n\n\n\n\n\n\n\n\n\n\nInfos pratiquesOuverture des portes à 20h\, spectacle à 20h30.L’adhésion à l’association est obligatoire pour assister au spectacle (valable pour la saison de septembre à juillet\, à prix libre dès 3€).L’entrée est à prix libre au chapeau pour les artistes !Attention : la Boulangerie du Prado n’accepte que les espèces.
URL:https://boulangerieduprado.com/evenement/dynamic-acte/
CATEGORIES:Théâtre
END:VEVENT
END:VCALENDAR