BEGIN:VCALENDAR
VERSION:2.0
PRODID:-//La Boulangerie du Prado - ECPv6.15.20//NONSGML v1.0//EN
CALSCALE:GREGORIAN
METHOD:PUBLISH
X-WR-CALNAME:La Boulangerie du Prado
X-ORIGINAL-URL:https://boulangerieduprado.com
X-WR-CALDESC:Évènements pour La Boulangerie du Prado
REFRESH-INTERVAL;VALUE=DURATION:PT1H
X-Robots-Tag:noindex
X-PUBLISHED-TTL:PT1H
BEGIN:VTIMEZONE
TZID:UTC
BEGIN:STANDARD
TZOFFSETFROM:+0000
TZOFFSETTO:+0000
TZNAME:UTC
DTSTART:20240101T000000
END:STANDARD
END:VTIMEZONE
BEGIN:VEVENT
DTSTART;TZID=UTC:20250919T200000
DTEND;TZID=UTC:20250919T223000
DTSTAMP:20260424T085958
CREATED:20250903T200546Z
LAST-MODIFIED:20250903T200548Z
UID:2089-1758312000-1758321000@boulangerieduprado.com
SUMMARY:Playtime
DESCRIPTION:Jazz instrumental\n\n\n\n\n\n\n\n\n\n\n\n\n\n\n\n\n\nPlayTime\, c’est un trio Guitare/Basse/Harmonica qui s’empare du langage jazz et de l’improvisation pour développer un espace sonore singulier\, sensible et contemporain. Ce sont des atmosphères multiples et mouvantes\, qui vous invitent au voyage et à la contemplation de paysages exotiques ou mystérieux. \n\n\n\n\nFacebook\n\n\n\nSoundcloud\n\n\n\n\n\n\n\n\n\n\n\n\n\n\nInfos pratiquesOuverture des portes à 20h\, spectacle à 20h30.L’adhésion à l’association est obligatoire pour assister au spectacle (valable pour la saison de septembre à juillet\, à prix libre dès 3€).L’entrée est à prix libre au chapeau pour les artistes !Attention : la Boulangerie du Prado n’accepte que les espèces.
URL:https://boulangerieduprado.com/evenement/playtime/
CATEGORIES:Concert
ATTACH;FMTTYPE=image/png:https://boulangerieduprado.com/wp-content/uploads/2025/09/playtime.png
END:VEVENT
END:VCALENDAR