BEGIN:VCALENDAR
VERSION:2.0
PRODID:-//La Boulangerie du Prado - ECPv6.15.20//NONSGML v1.0//EN
CALSCALE:GREGORIAN
METHOD:PUBLISH
X-ORIGINAL-URL:https://boulangerieduprado.com
X-WR-CALDESC:Évènements pour La Boulangerie du Prado
REFRESH-INTERVAL;VALUE=DURATION:PT1H
X-Robots-Tag:noindex
X-PUBLISHED-TTL:PT1H
BEGIN:VTIMEZONE
TZID:UTC
BEGIN:STANDARD
TZOFFSETFROM:+0000
TZOFFSETTO:+0000
TZNAME:UTC
DTSTART:20240101T000000
END:STANDARD
END:VTIMEZONE
BEGIN:VEVENT
DTSTART;TZID=UTC:20250920T200000
DTEND;TZID=UTC:20250920T223000
DTSTAMP:20260424T090301
CREATED:20250903T223458Z
LAST-MODIFIED:20250903T223500Z
UID:2112-1758398400-1758407400@boulangerieduprado.com
SUMMARY:Sycamore Sisters
DESCRIPTION:Blues Swing\n\n\n\n\n\n\n\n\n\n\n\n\n\n\n\n\n\nJouant tour à tour de la contrebasse qu’elles accompagnent d’une guitare\, d’un banjo ou d’une mandoline\, « Blue Becky » et « Lonesome Lou » vous racontent et vous chantent leur rencontre musicale. Avec leurs deux belles voix rétros\, complémentaires et harmonisées\, les Sycamore Sisters proposent un live acoustique intimiste chargé d’émotions\, entre blues et swing\, avec des influences grandissantes du côté de la musique folk américaine. A travers leurs nouvelles compositions\, elles nous donnent aujourd’hui un accès contemplatif et envoûtant à leur intériorité en explorant des thématiques qui définissent leur identité : la liberté et la libération de soi\, l’aller mieux dans l’acceptation du passé et du changement\, les parcours de vie féminins d’hier et d’aujourd’hui\, l’errance et l’immigration. \n\n\n\n\n\n\n\n\n\n\n\n\n\n\n\n\n\n\n\n\n\nInfos pratiquesOuverture des portes à 20h\, spectacle à 20h30.L’adhésion à l’association est obligatoire pour assister au spectacle (valable pour la saison de septembre à juillet\, à prix libre dès 3€).L’entrée est à prix libre au chapeau pour les artistes !Attention : la Boulangerie du Prado n’accepte que les espèces.
URL:https://boulangerieduprado.com/evenement/sycamore-sisters/
CATEGORIES:Concert
ATTACH;FMTTYPE=image/jpeg:https://boulangerieduprado.com/wp-content/uploads/2025/09/538858772_1574459030537501_6637213619028474378_n.jpg
END:VEVENT
END:VCALENDAR