BEGIN:VCALENDAR
VERSION:2.0
PRODID:-//La Boulangerie du Prado - ECPv6.15.20//NONSGML v1.0//EN
CALSCALE:GREGORIAN
METHOD:PUBLISH
X-WR-CALNAME:La Boulangerie du Prado
X-ORIGINAL-URL:https://boulangerieduprado.com
X-WR-CALDESC:Évènements pour La Boulangerie du Prado
REFRESH-INTERVAL;VALUE=DURATION:PT1H
X-Robots-Tag:noindex
X-PUBLISHED-TTL:PT1H
BEGIN:VTIMEZONE
TZID:UTC
BEGIN:STANDARD
TZOFFSETFROM:+0000
TZOFFSETTO:+0000
TZNAME:UTC
DTSTART:20240101T000000
END:STANDARD
END:VTIMEZONE
BEGIN:VEVENT
DTSTART;TZID=UTC:20251003T200000
DTEND;TZID=UTC:20251003T223000
DTSTAMP:20260422T134635
CREATED:20250919T211248Z
LAST-MODIFIED:20250919T212548Z
UID:2134-1759521600-1759530600@boulangerieduprado.com
SUMMARY:Air Ike
DESCRIPTION:Duo électro-acoustique\n\n\n\n\n\n\n\n\n\n\n\n\n\n\n\n\n\nC’est à la Boulangerie du Prado qu’Air ike & la Fabrik’ à Gendron feront leur rentrée !  \n\n\n\nC’est désormais le talentueux guitariste lyonnais 𝗙𝗮𝗯𝗿𝗶𝗰𝗲 𝗚𝗲𝗻𝗱𝗿𝗼𝗻 qui l’accompagne sur scène dans un savoureux duo électro-acoustique. Ils reprennent ses chansons sur une base voix/guitare\, et Fabrice\, maître dans la MAO\, colore ses arrangements live de samples\, loops\, séquences …  \n\n\n\nPour vous donner une idée de ce que cela donne sur scène ; ils ont enregistré un EP 4 titres\, tels que vous pouvez les écouter en concert ! « 𝑳𝒂 𝒇𝒂𝒃𝒓𝒊𝒌 à 𝑮𝒆𝒏𝒅𝒓𝒐𝒏 » by 𝗔𝗶𝗿 𝗶𝗸𝗲 est disponible sur toutes les plateformes depuis le 21/06/24. \n\n\n\n\nSite\n\n\n\n\n\n\n\n\n\n\n\n\n\n\n\n\n\n\nInfos pratiquesOuverture des portes à 20h\, spectacle à 20h30.L’adhésion à l’association est obligatoire pour assister au spectacle (valable pour la saison de septembre à juillet\, à prix libre dès 3€).L’entrée est à prix libre au chapeau pour les artistes !Attention : la Boulangerie du Prado n’accepte que les espèces.
URL:https://boulangerieduprado.com/evenement/air-ike/
CATEGORIES:Concert
ATTACH;FMTTYPE=image/jpeg:https://boulangerieduprado.com/wp-content/uploads/2025/09/Visuel-Air-ike-la-Fabrik-a-Gendron-2025-Boulangerie-du-Prado-16.9-scaled.jpg
END:VEVENT
END:VCALENDAR